BEGIN:VCALENDAR
VERSION:2.0
PRODID:-//malobeo – alternatives café und anarchistische bibliothek - ECPv5.14.0.1//NONSGML v1.0//EN
CALSCALE:GREGORIAN
METHOD:PUBLISH
X-WR-CALNAME:malobeo – alternatives café und anarchistische bibliothek
X-ORIGINAL-URL:https://malobeo.org
X-WR-CALDESC:Veranstaltungen für malobeo – alternatives café und anarchistische bibliothek
BEGIN:VTIMEZONE
TZID:Europe/Berlin
BEGIN:DAYLIGHT
TZOFFSETFROM:+0100
TZOFFSETTO:+0200
TZNAME:CEST
DTSTART:20210328T010000
END:DAYLIGHT
BEGIN:STANDARD
TZOFFSETFROM:+0200
TZOFFSETTO:+0100
TZNAME:CET
DTSTART:20211031T010000
END:STANDARD
END:VTIMEZONE
BEGIN:VEVENT
DTSTART;TZID=Europe/Berlin:20211101T180000
DTEND;TZID=Europe/Berlin:20211101T193000
DTSTAMP:20260420T101129
CREATED:20211107T124336Z
LAST-MODIFIED:20211107T124336Z
UID:2539-1635789600-1635795000@malobeo.org
SUMMARY:01.11. - BNE - Vernetzung mit BNE-Bildungsakteuren in Globalen Süden
DESCRIPTION:Schwerpunkt zum nächsten offenen BNE-Treff: \n„Vernetzung mit BNE-Bildungsakteuren in Globalen Süden“ \nWann?*\nMontag\, 01. November 2021 // 18-20 Uhr\, hybrid\n(auf Spanisch mit deutscher Übersetzung) \nMit Anmeldung\nMeldet euch über multiplikatorinnen-angebote@cambio-aktionswerkstatt.de an. \nTreffpunkt\nOnline über Fairteaching https://arlberg.fairteaching.net/b/tse-njw-6ce und\nPräsenz im Alternativen Cafe Malobeo in Kamenzer Strasse 38\, 01099 Dresden\nTeilnehmende vor Ort müssen einen Impf- oder Genesenen-Nachweis oder einen negatives Testergebnis einer öffentlichen Teststelle vorweisen! Außerdem wird es eine Kontaktabfrage zur Nachverfolgung im Notfall geben\, daher wenn möglich einige Minuten vor Beginn vor Ort sein! \nImpulsgeber*innen sind POMOTE aus Kolumbien \n\n\n\nWir sind ein Studienzentrum\, das sich der Entwicklung von Forschungs-\, Aktions- und Partizipationsprozessen widmet. Unsere erfahrungsbasierten Gruppenprozesse zielen darauf ab\, die organisatorischen\, methodischen\, narrativen und Artikulationskapazitäten sozialer Organisationen in verschiedenen Regionen Kolumbiens zu stärken. \nMit Wissen aus der pädagogischen Praxis entwickeln wir Bildungs-\, Forschungs- und Systematisierungsprozesse für erfahrungsbasierte Gruppenarbeit\, die auf den Grundsätzen des Wissensdialogs\, der Dekommodifizierung von Wissen und der Schaffung horizontaler Beziehungen zwischen der akademischen Welt und den Gemeinschaften beruhen. \nDamit wollen wir die Aufbereitung und Verbreitung von Wissen unterstützen\, das in der Praxis sozialer Bewegungen\, Bevölkerungsgruppen (Poblaciones) und kleinen Organisationen und Vereinen entsteht und wichtige Inhalte in den Bereichen Pädagogik\, Territorium\, soziale Mobilisierung und Menschenrechte produziert. \nAls Studienzentrum POMOTE mit Schwerpunkt auf Methodenarbeit und Prozessbegleitung sind wir Teil des Vizerektorats für Forschung der Universidad Autónoma Latinoamericana de Medellín (kurz: UNAULA\, zu deutsch: Autonome Universität Lateinamerika\, in Medellin). \nMehr über unsere Publikationen [auf spanisch]: https://pomotecestudios.unaula.edu.co/publicaciones/ \nWas?\nFür den Austausch über BNE-Themen\, haben wir einige Methoden-Publikationen und Themen\, über die wir uns gerne austauschen können.\n– Praktiken und pädagogische Prozesse für die Soziale Transformation\n– Minga* des Methodenwissens – Kommunikation\, Territorium und gute Leben\n– Minga* des polifonen Wissens – kollaboratives Wörterbuch sozialer Bewegungen\n– Biografisch-Narrative Prozesse\, Erfahrungen und Methoden\n– Wissen\, Praktiken und Resistenz für das Gute Leben in den Territorien \n*Das Wort Minga ist Kichwa und bedeutet gemeinsame Arbeit für die ganze Gemeinschaft.\nHeute ist die Minga vor allem in Kolumbien eine massenhafte Protestform meist indigener\, aber auch kleinbäuerlicher\, afrokolumbianischer und sozialer Bewegungen. Sie kämpfen so gegen Unterdrückung\, Gewalt und Repression und für ihre politischen und sozialen Rechte.\nDie zentralen Forderungen der Minga beziehen sich auf vier Punkte:\nDie Verteidigung des Lebens\, das Recht auf ihr Territorium\, die Demokratie und den Frieden. Alles Punkte\, die sie schon lange einfordern\, welche die Regierung bisher nicht (genügend) erfüllt hat.\n(Quelle: https://amerika21.de/blog/2020/11/244983/kolumbien-minga-indigena-duque-kneift) \nWas ist der BNE-Treff?\nJeden ersten Montag im Monat bieten wir einen offenen Informations-\, Austausch- und Vernetzungsabend für Pädagog:innen\, Studierende\, Schüler:innen\, Projektkoordinator:innen und alle Interessierten am Thema Bildung für Nachhaltige Entwicklung (BNE) & Globales Lernen an.\nDazu wollen wir einen Raum eröffnen\, in dem Erfahrungen\, Ideen\, Wissen\, aber auch Frust zu kritischer und transformativer Bildungsarbeit geteilt werden können.\nDer Treff ist partizipativ gestaltet: Gemeinsam suchen wir uns einmal im Jahr Themen aus\, die anhand eines kurzen Inputs bei den jeweiligen monatlichen Treffen vorgestellt und diskutiert werden können. Am Ende jeden Treffs gibt es kurz Zeit für spontane Themen\, Termine und Fragen… \n– kostenlos –\n– angepasst an aktuellen Sächsischen Corona-Schutz-Verordnung –\n\nFörderer: Diese Maßnahme wird mitfinanziert durch Steuermittel auf der Grundlage des vom Sächsischen Landtag beschlossenen Haushalt\, durch das Stadtbezirksamt Neustadt der Landeshauptstadt Dresden und durch ENGAGEMENT GLOBAL mit Mitteln des Bundeministerium für wirtschaftliche Zusammenarbeit und Entwicklung.
URL:https://malobeo.org/event/01-11-bne-vernetzung-mit-bne-bildungsakteuren-in-globalen-sueden/
CATEGORIES:CAMBIO e.V.
ATTACH;FMTTYPE=image/jpeg:https://malobeo.org/wp-content/uploads/2021/10/BNE-Treff-Header-2021-1200x800-1-1024x683.jpg
END:VEVENT
END:VCALENDAR