BEGIN:VCALENDAR
VERSION:2.0
PRODID:-//malobeo – alternatives café und anarchistische bibliothek - ECPv5.14.0.1//NONSGML v1.0//EN
CALSCALE:GREGORIAN
METHOD:PUBLISH
X-WR-CALNAME:malobeo – alternatives café und anarchistische bibliothek
X-ORIGINAL-URL:https://malobeo.org
X-WR-CALDESC:Veranstaltungen für malobeo – alternatives café und anarchistische bibliothek
BEGIN:VTIMEZONE
TZID:Europe/Berlin
BEGIN:DAYLIGHT
TZOFFSETFROM:+0100
TZOFFSETTO:+0200
TZNAME:CEST
DTSTART:20230326T010000
END:DAYLIGHT
BEGIN:STANDARD
TZOFFSETFROM:+0200
TZOFFSETTO:+0100
TZNAME:CET
DTSTART:20231029T010000
END:STANDARD
END:VTIMEZONE
BEGIN:VEVENT
DTSTART;TZID=Europe/Berlin:20230203T170000
DTEND;TZID=Europe/Berlin:20230203T210000
DTSTAMP:20260420T103522
CREATED:20230131T105433Z
LAST-MODIFIED:20230131T105433Z
UID:3322-1675443600-1675458000@malobeo.org
SUMMARY:03.02.: ANTI* KüfA (agender\, non-binary\, trans*\, inter*)
DESCRIPTION:ANTI* KüfA (agender\, non-binary\, trans*\, inter*) \n_\nFreitag\, 03.02.2023\n🔪🔪 17 Uhr – gemeinsames Kochen | cooking\n🌮🌮 19 Uhr – Essen | eating\n🏴🏴 @malobeo\, Kamenzer Str. 38\, Dresden\n__ \nWe are taking our space!\nIhr seid alle eingeladen zur ANTI*only-KüfA (agender\, non-binary\, trans*\, inter*).\nEs wird leckeres veganes Essen geben und ganz viele neue connections. Wenn du einfach mal Lust hast\, mit anderen TIAN*/ANTI*-Menschen abzuhängen\, dich über Themen austauschen willst oder einfach nur Bock auf gutes Essen hast: komm vorbei and bring your friends! 🏳‍⚧🏳‍🌈 \nWir freuen uns auf dich\, lass uns chillen und uns kennenlernen! \n#access\n⭐️ Es gibt eine Rampe. Ein Teil des Raumes ist rollstuhlgerecht\, das WC nicht barrierearm.\n⭐️ TIN*only\n⭐️ kommt bitte getestet und mit FFP2 Maske \nWir haben keinen Bock auf Transfeindlichkeit\, Homophobie\, Rassismus\, Ableismus\, Antisemitismus. \n___ en _ \nWe are taking our space!\nYou are all invited to the TIAN*/ANTI*only-KüfA (agender\, non-binary\, trans*\, inter*).\nThere will be delicious vegan food and a whole lot of new connections. If you just want to hang out with other trans*\, inter*\, non-binary and agender people\, talk about topics or just want to have some good food: come by and bring your friends! ⚧🌈 \nWe look forward to seeing you\, let’s chill and get to know each other! \n#access\n⭐️ There is a ramp. Part of the room is wheelchair accessible\, the toilet is not accessible.\n⭐️ TIN*only\n⭐️ please come tested and with FFP2 mask. \nWe don’t tolerate any bullshit about transphobia\, homophobia\, racism\, Ableism\, antisemitism.
URL:https://malobeo.org/event/03-02-anti-kuefa-agender-non-binary-trans-inter/
CATEGORIES:KüfA
ATTACH;FMTTYPE=image/jpeg:https://malobeo.org/wp-content/uploads/2023/01/photo1675159127.jpeg
END:VEVENT
END:VCALENDAR