BEGIN:VCALENDAR
VERSION:2.0
PRODID:-//malobeo – alternatives café und anarchistische bibliothek - ECPv5.14.0.1//NONSGML v1.0//EN
CALSCALE:GREGORIAN
METHOD:PUBLISH
X-WR-CALNAME:malobeo – alternatives café und anarchistische bibliothek
X-ORIGINAL-URL:https://malobeo.org
X-WR-CALDESC:Veranstaltungen für malobeo – alternatives café und anarchistische bibliothek
BEGIN:VTIMEZONE
TZID:Europe/Berlin
BEGIN:DAYLIGHT
TZOFFSETFROM:+0100
TZOFFSETTO:+0200
TZNAME:CEST
DTSTART:20200329T010000
END:DAYLIGHT
BEGIN:STANDARD
TZOFFSETFROM:+0200
TZOFFSETTO:+0100
TZNAME:CET
DTSTART:20201025T010000
END:STANDARD
END:VTIMEZONE
BEGIN:VEVENT
DTSTART;TZID=Europe/Berlin:20200303T180000
DTEND;TZID=Europe/Berlin:20200303T220000
DTSTAMP:20260420T103711
CREATED:20200302T203255Z
LAST-MODIFIED:20200302T203413Z
UID:1692-1583258400-1583272800@malobeo.org
SUMMARY:03.03. - Hanau\, das war deutsche Leitkultur
DESCRIPTION:Wir gedenken \nGökhan Gültekin\nHamza Kurtovic\nSaid Nessar El Hashemi\nFerhat Unvar\nMercedes Kierpacz\nSedat Gürbüz\nKaloyan Velkov\nFatih Saracoglu\nVili Viorel Paun\nGabriele R. \nAm 19.02.2020 von einem Rechtsterroristen in Hanau ermodet. \nWir möchten Redebeiträgen von Betroffenen aus Hanau zuhören.\nEs werden außerdem übersetzte Aufrufe zu einer Migrantifa Vernetzung in Dresden in 6 verschiedene Sprachen (auch zum Mitnehmen) ausliegen.\nTriggerwarnung: Rassimus\, Mord\, Antiromaismus \nRedebeitrag von Migrant*innen aus Dresden zu den Ereignissen in Hanau; gehalten am 20.02.2020. (arabic below) \n 
URL:https://malobeo.org/event/03-03-hanau-das-war-deutsche-leitkultur/
CATEGORIES:AntiFa,AntiRa,Antirep,Erinnerungskultur,FantiFa,KüfA
ATTACH;FMTTYPE=image/jpeg:https://malobeo.org/wp-content/uploads/2020/03/87991929_216562256397595_5904680859121745920_n.jpg
END:VEVENT
END:VCALENDAR