BEGIN:VCALENDAR
VERSION:2.0
PRODID:-//malobeo – alternatives café und anarchistische bibliothek - ECPv5.14.0.1//NONSGML v1.0//EN
CALSCALE:GREGORIAN
METHOD:PUBLISH
X-WR-CALNAME:malobeo – alternatives café und anarchistische bibliothek
X-ORIGINAL-URL:https://malobeo.org
X-WR-CALDESC:Veranstaltungen für malobeo – alternatives café und anarchistische bibliothek
BEGIN:VTIMEZONE
TZID:Europe/Berlin
BEGIN:DAYLIGHT
TZOFFSETFROM:+0100
TZOFFSETTO:+0200
TZNAME:CEST
DTSTART:20240331T010000
END:DAYLIGHT
BEGIN:STANDARD
TZOFFSETFROM:+0200
TZOFFSETTO:+0100
TZNAME:CET
DTSTART:20241027T010000
END:STANDARD
END:VTIMEZONE
BEGIN:VEVENT
DTSTART;TZID=Europe/Berlin:20240503T170000
DTEND;TZID=Europe/Berlin:20240503T210000
DTSTAMP:20260420T170552
CREATED:20240421T100800Z
LAST-MODIFIED:20240421T100800Z
UID:3656-1714755600-1714770000@malobeo.org
SUMMARY:03.5.: ANTI* only (Agender\, non-binary\, trans*\, inter*) KüfA
DESCRIPTION:ANTI* only (Agender\, non-binary\, trans*\, inter*) KüfA \nFr.\, 03.05\n🔪17 Uhr – gemeinsames Kochen | cooking\n🌮19 Uhr – Essen | eating\n🏴 @malobeo\, Kamenzer Str. 38\, DD \nWe are taking our space!\nEs wird leckeres veganes Essen geben. Wenn du einfach mal Lust hast\, mit anderen TIAN*/ANTI* Menschen abzuhängen\, dich über Themen austauschen willst oder einfach nur Bock auf gutes Essen hast: komm vorbei and bring your friends! 🏳️‍⚧️🏳️‍🌈 \nWir freuen uns auf dich\, lass uns chillen & uns kennenlernen! \n#access\n⭐️ Es gibt eine mobile Rampe. Ein Teil des Raumes ist rollstuhlgerecht\, das WC nicht barrierearm\n⭐️ TIAN*/ANTI* only \nWir haben keinen Bock auf Transfeindlichkeit\, Homophobie\, Rassismus\, Ableismus\, Antisemitismus. \n_ en\nThere will be delicious vegan food and a whole lot of new connections. If you just want to hang out with other trans*\, inter*\, agender or non-binary people\, talk about topics or just want to have some good food: come by and bring your friends! ⚧🌈
URL:https://malobeo.org/event/03-5-anti-only-agender-non-binary-trans-inter-kuefa/
CATEGORIES:KüfA
ATTACH;FMTTYPE=image/jpeg:https://malobeo.org/wp-content/uploads/2024/04/photo_2024-04-20_20-32-37.jpg
END:VEVENT
END:VCALENDAR