BEGIN:VCALENDAR
VERSION:2.0
PRODID:-//malobeo – alternatives café und anarchistische bibliothek - ECPv5.14.0.1//NONSGML v1.0//EN
CALSCALE:GREGORIAN
METHOD:PUBLISH
X-WR-CALNAME:malobeo – alternatives café und anarchistische bibliothek
X-ORIGINAL-URL:https://malobeo.org
X-WR-CALDESC:Veranstaltungen für malobeo – alternatives café und anarchistische bibliothek
BEGIN:VTIMEZONE
TZID:Europe/Berlin
BEGIN:DAYLIGHT
TZOFFSETFROM:+0100
TZOFFSETTO:+0200
TZNAME:CEST
DTSTART:20230326T010000
END:DAYLIGHT
BEGIN:STANDARD
TZOFFSETFROM:+0200
TZOFFSETTO:+0100
TZNAME:CET
DTSTART:20231029T010000
END:STANDARD
END:VTIMEZONE
BEGIN:VEVENT
DTSTART;TZID=Europe/Berlin:20230407T170000
DTEND;TZID=Europe/Berlin:20230407T190000
DTSTAMP:20260420T102809
CREATED:20230406T081009Z
LAST-MODIFIED:20230406T081009Z
UID:3423-1680886800-1680894000@malobeo.org
SUMMARY:07.04.: tête-A-TIAN*: Exchange
DESCRIPTION:tête-A-TIAN*: Männlichkeit/Masculinity\nFifth Edition \n07.04.\, 17:00-19:00 @malobeo\n****************************** \n[English below] \ntête-à-tin*\nAustausch unter Menschen im tian*Spektrum\nDu verstehst dich als Person im trans*\, inter*\, nicht binären und/ oder agender Spektrum? Du wünschst dir Austausch mit anderen TIAN* Personen dazu? Wir auch. Deshalb wollen euch zu einem kleinen tête-à-tian* einladen! \nWANN & WO\nMeistens am ersten Freitag im Monat\, vor der tian* Küfa\, nächstes Mal am 07.04.2023\, 17 bis 19 Uhr\n@malobeo\, Kamenzer Straße 38\, 01099 Dresden -> was das Malobeo ist und was die tollen Menschen da so machen\, kannst du hier nachschauen: www.malobeo.org Außerdem findest du da Infos zu Angeboten und räumlichen Barrieren. \nWAS\nWir haben einen Raum kreiert um über verschiedene Themen zu sprechen. Bei den letzten drei Treffen ging es um Männlichkeitskonzepte im Allgemeinen oder in Bezug auf uns selbst. Daran können wir weiter sprechen\, müssen wir aber nicht. Die Menschen die da sind werden über das Thema entscheiden. Es bereitet also auch niemand etwas vor\, außer du möchtest das gern tun. Dann sei herzlich eingeladen! Die Menschen die da sind entscheiden gemeinsam wie der Raum gestaltet werden soll. \nAchja: Bitte macht vorher einen COVID-Test.\nSprachen: EN & DE \n  \n— \n[EN] \ntête-á-tian*\nExchange among people on the TIAN* spectrum on the topic of masculinity. \nDo you see yourself as trans*\, inter*\, non-binary and/or agender? Would you like to get in touch with other tian* people to talk about different topics? We do! Therefore\, we would like to invite you to a small tête-á-tian*! \nWhere & When\nMostly the 1st friday every month with tian*Küfa\, next: 07.04.23 17-19 o’clock\nmalobeo\, Kamenzer Straße 38\, 01099 Dresde. You can read more information about accessibility on malobeo’s website. \nWhat\nWe created a space to talk about different topics. We already met 3 times to talk about masculinity in general or what it means to ourself. We could go on with that but it doesn’t have to. The people who are there will decide about the topic together. Usually no one prepares the meetings so it will also be created from the people who are there. You are also invited to prepare something! \nOh yes: Please do a COVID test beforehand.\nLanguages: EN & DE \n 
URL:https://malobeo.org/event/07-04-tete-a-tian-exchange/
ATTACH;FMTTYPE=image/jpeg:https://malobeo.org/wp-content/uploads/2023/04/photo_2023-04-05_17-39-28.jpg
END:VEVENT
END:VCALENDAR