BEGIN:VCALENDAR
VERSION:2.0
PRODID:-//malobeo – alternatives café und anarchistische bibliothek - ECPv5.14.0.1//NONSGML v1.0//EN
CALSCALE:GREGORIAN
METHOD:PUBLISH
X-WR-CALNAME:malobeo – alternatives café und anarchistische bibliothek
X-ORIGINAL-URL:https://malobeo.org
X-WR-CALDESC:Veranstaltungen für malobeo – alternatives café und anarchistische bibliothek
BEGIN:VTIMEZONE
TZID:Europe/Berlin
BEGIN:DAYLIGHT
TZOFFSETFROM:+0100
TZOFFSETTO:+0200
TZNAME:CEST
DTSTART:20220327T010000
END:DAYLIGHT
BEGIN:STANDARD
TZOFFSETFROM:+0200
TZOFFSETTO:+0100
TZNAME:CET
DTSTART:20221030T010000
END:STANDARD
END:VTIMEZONE
BEGIN:VEVENT
DTSTART;TZID=Europe/Berlin:20220607T170000
DTEND;TZID=Europe/Berlin:20220607T200000
DTSTAMP:20260420T103843
CREATED:20220603T133638Z
LAST-MODIFIED:20220603T133638Z
UID:2874-1654621200-1654632000@malobeo.org
SUMMARY:07.06.- Pride KüfA: Persecution and Self-Organisation in Chechnya
DESCRIPTION:Jeder Monat ist Pride Monat 😉 Aber diesen Juni richten sich die Dienstags-KüfA in Kooperation mit der Queer Pride Dresden an queerer Themensetzung aus. \n07.06. – Queer Persecution and Self-Organisation in Chechnya (en) \n14.06. – Battle of Tuntenhaus (de/en)  (queeres Hausbesetzertun im 90er-Jahre Berlin) \n21.06. – about a lesbian glamrock band on a rodtrip\, being chased by cyborgs\, ninjas and roller derby gurrls (en/de) \n\n  \nQueer Persecution and Self-Organisation in Chechnya\nSince 2017\, the fascist leader of Chechnya\, Ramzan Kadyrov\, has been conducting a heinous operation to „blood cleanse“ Chechens by overseeing a state campaign against queers for their detention\, torture\, and execution. Over a hundred men (?) have been abducted\, and at least three victims have died. The persecution of lesbians and trans*people has been quieter.  Worldwide judgment has been weak. Not to mention actual help. \nIt was activists from the Russian LGBT network who took high risks of repression to seek out queer Chechens\, smuggle them out of the country and build a network of safe houses in Russia.The input focuses on the outstanding and life-saving work of the activists. \nThe input is in English. There is no extra awareness offering. \n  \n  \nQueere Verfolgung und Selbstorganisation in Tschetschenien\nSeit 2017 führt der faschistische Führer Tschetscheniens\, Ramsan Kadyrow\, eine abscheuliche Operation zur „Blutsäuberung“ von Tschetschenen durch\, indem er eine staatliche Kampagne gegen Queers zu deren Inhaftierung\, Folter und Hinrichtung beaufsichtigt. Über hundert Männer (?) wurden verschleppt\, mindestens drei Opfer sind zu Tode gekommen. Die Verfolgung von Lesben und trans*people verlief stiller.  Die weltweite Verurteilung fiel schwach aus. Von aktuer Hilfe ganz zu Schweigen. \nEs waren Aktivist*innen des russischen LGBT-Netzes\, die hohe Repressionsrisiken eingingen\, um queere Teschetschen*innen aufzusuchen\, sie aus dem Land zu schleusen und in Russland ein Netzwerk von sicheren Unterkünften aufzubauen. \nDer Input fokusiert sich auf die herausragende und lebensrettende Arbeit der Aktivist*innen. \nDer Input ist auf english. Es gibt kein extra Awareness-Angebot. \n  \n 
URL:https://malobeo.org/event/07-06-pride-kuefa-persecution-and-self-organisation-in-chechnya/
CATEGORIES:Antirep,Erinnerungskultur,FantiFa,kino liberecano,KüfA
ATTACH;FMTTYPE=image/jpeg:https://malobeo.org/wp-content/uploads/2022/06/Chechnya_en.jpg
END:VEVENT
END:VCALENDAR