BEGIN:VCALENDAR
VERSION:2.0
PRODID:-//malobeo – alternatives café und anarchistische bibliothek - ECPv5.14.0.1//NONSGML v1.0//EN
CALSCALE:GREGORIAN
METHOD:PUBLISH
X-WR-CALNAME:malobeo – alternatives café und anarchistische bibliothek
X-ORIGINAL-URL:https://malobeo.org
X-WR-CALDESC:Veranstaltungen für malobeo – alternatives café und anarchistische bibliothek
BEGIN:VTIMEZONE
TZID:Europe/Berlin
BEGIN:DAYLIGHT
TZOFFSETFROM:+0100
TZOFFSETTO:+0200
TZNAME:CEST
DTSTART:20190331T010000
END:DAYLIGHT
BEGIN:STANDARD
TZOFFSETFROM:+0200
TZOFFSETTO:+0100
TZNAME:CET
DTSTART:20191027T010000
END:STANDARD
END:VTIMEZONE
BEGIN:VEVENT
DTSTART;TZID=Europe/Berlin:20190908T140000
DTEND;TZID=Europe/Berlin:20190908T170000
DTSTAMP:20260420T153754
CREATED:20190829T200546Z
LAST-MODIFIED:20190829T200546Z
UID:1436-1567951200-1567962000@malobeo.org
SUMMARY:08.09. - Lesekreis: Beyond Capitalism? Der Beyond-Meat-Hype vs. Anticapitalista
DESCRIPTION:„Die Euphorie um vegane Burger von Beyond Meat hält an: Der Fleischersatz-Hersteller wächst nach wie vor rasant. Im zweiten Quartal legte der Umsatz im Jahresvergleich um 287 Prozent auf 67\,3 Millionen Dollar (60\,4 Millionen Euro) zu\, wie Beyond Meat nach US-Börsenschluss mitteilte.“ hieß es in der Süddeutschen Zeitung. Das Thema Veganismus ist in aller Munde\, ob im Deutschlandfunk\, im Spiegel\, der Süddeutschen oder der Frankfurter Allgemeine\, um nur einige zu nennen. In den letzten Wochen wurde viel über Beyond Meat und den Hype nach veganen Burgern berichtet und diskutiert. Was vorher nur im Großhandel oder in einigen Restaurants erhältlich war\, wird nun auch in Discountern\, wie Lidl\, Netto und Aldi ins Sortiment genommen – und erleben dort einen rasanten Ausverkauf. Ist dies ein Zeichen\, dass der Veganismus nun endlich in der Mitte der Gesellschaft angekommen ist und zukünftig mehr Menschen aufgrund des verblüffend „fleischlichen“ Geschmacks und Konsistenz zu den veganen Patties greifen werden? \nOder sollten wir doch lieber skeptisch bleiben und uns fragen\, wer hinter den Konzernen steht und welcher Verwertungslogik diese Branche verfolgt? Lässt sich ein langfristiger gesellschaftlicher Wandel tatsächlich im Supermarkt erkaufen? \nIn unserem Lesekreis stellen wir uns diesen Fragen und beschäftigen uns mit dem Thema Beyond Meat Hype vs. Antikapitalismus. Es wird einen Einblick über die Hersteller*innen der veganen Burger geben und wir werden einige aktuelle Zeitungsartikel gemeinsam lesen\, durchdenken und diskutieren. \n>> http://tierbefreiung-dresden.org/lesekreis-beyond-capitalism/?fbclid=IwAR3nwmf3DYbu2xWVLv070OOf_E5g-_AEWJRCGaOLAxA4QAD4RIhk58-LKZk << \nHintergrund:\nIn regelmäßigen Lesekreisen wollen wir uns mit Büchern\, Aufsätzen\, Texten und Schriften zum Mensch-Tier-Verhältnis beschäftigen. Wir möchten sowohl Geschichte als auch aktuelle Diskussionen aufgreifen\, gemeinsam mit euch lesen und in entspannter Atmosphäre mit euch durchdenken. Außerdem wird es Kuchen\, Kaffee und Tee geben. Unsere Lesekreise sind einsteiger*innenfreundlich gestaltet und es sind keine besonderen Vorkenntnisse nötig.\nDer Lesekreis soll auch dazu genutzt werden\, um uns besser kennenzulernen und sich gegenseitig auszutauschen. Wenn du Lust hast mitzumachen oder dir den Lesekreis einfach mal angucken möchtest\, komm gerne vorbei. \nDas malobeo hat eine Kinderecke mit Spielzeug und einen Wickeltisch\, sowie eine mobile Rollstuhlrampe. Das WC ist leider nicht barrierearm.
URL:https://malobeo.org/event/08-09-lesekreis-beyond-capitalism-der-beyond-meat-hype-vs-anticapitalista/
LOCATION:malobeo\, Kamenzer Straße 38\, Dresden\, Sucksen\, 01099\, Germany
CATEGORIES:AntiSpe,Externe Veranstalter,Lesekreis,Offenes Treffen,Tierbefreiung Dresden
ATTACH;FMTTYPE=image/jpeg:https://malobeo.org/wp-content/uploads/2019/08/bb_lesekreis_-beyond-1140x620.jpg
END:VEVENT
END:VCALENDAR