BEGIN:VCALENDAR
VERSION:2.0
PRODID:-//malobeo – alternatives café und anarchistische bibliothek - ECPv5.14.0.1//NONSGML v1.0//EN
CALSCALE:GREGORIAN
METHOD:PUBLISH
X-WR-CALNAME:malobeo – alternatives café und anarchistische bibliothek
X-ORIGINAL-URL:https://malobeo.org
X-WR-CALDESC:Veranstaltungen für malobeo – alternatives café und anarchistische bibliothek
BEGIN:VTIMEZONE
TZID:Europe/Berlin
BEGIN:DAYLIGHT
TZOFFSETFROM:+0100
TZOFFSETTO:+0200
TZNAME:CEST
DTSTART:20180325T010000
END:DAYLIGHT
BEGIN:STANDARD
TZOFFSETFROM:+0200
TZOFFSETTO:+0100
TZNAME:CET
DTSTART:20181028T010000
END:STANDARD
END:VTIMEZONE
BEGIN:VEVENT
DTSTART;TZID=Europe/Berlin:20180710T193000
DTEND;TZID=Europe/Berlin:20180710T235900
DTSTAMP:20260420T143510
CREATED:20180708T235926Z
LAST-MODIFIED:20181203T134456Z
UID:792-1531251000-1531267140@malobeo.org
SUMMARY:10.7.2018 – KüfA & Film
DESCRIPTION:Er kann sich auf seine Gang verlassen\, die sich gegenseitig stets den Rücken frei hält und gemeinsam durch dick und dünn geht. Sie lachen zusammen\, sie trinken gemeinsam und sind mächtig stolz aufeinander. Als er auf sie trifft\, nimmt sein Leben allerdings eine Wende. Es ist Liebe auf den ersten Blick. Nachdem die junge Frau jedoch hinter seine rassistische Einstellung kommt\, erteilt sie ihm erst einmal eine Abfuhr. Zwar gelingt es ihm\, sie wieder zurückzugewinnen\, doch die Dinge verkomplizieren sich\, als sie ihm offenbart\, dass sie einen Sohn hat\, dessen Vater Afrikaner ist. Obwohl er im ersten Moment erst einmal hart schlucken muss\, versucht er ihr zuliebe mit dem Kind zurechtzukommen. \n  \nLanguage:\nDuration (Länge): 99 minutes \n19:30 KüfA (Küche für alle)\n20:00 Film
URL:https://malobeo.org/event/10-07-kufa-film/
LOCATION:malobeo\, Kamenzer Straße 38\, Dresden\, Sucksen\, 01099\, Germany
CATEGORIES:kino liberecano
ATTACH;FMTTYPE=image/jpeg:https://malobeo.org/wp-content/uploads/2018/07/heart_of_a_lion-e1532170745882.jpg
END:VEVENT
END:VCALENDAR