BEGIN:VCALENDAR
VERSION:2.0
PRODID:-//malobeo – alternatives café und anarchistische bibliothek - ECPv5.14.0.1//NONSGML v1.0//EN
CALSCALE:GREGORIAN
METHOD:PUBLISH
X-WR-CALNAME:malobeo – alternatives café und anarchistische bibliothek
X-ORIGINAL-URL:https://malobeo.org
X-WR-CALDESC:Veranstaltungen für malobeo – alternatives café und anarchistische bibliothek
BEGIN:VTIMEZONE
TZID:Europe/Berlin
BEGIN:DAYLIGHT
TZOFFSETFROM:+0100
TZOFFSETTO:+0200
TZNAME:CEST
DTSTART:20180325T010000
END:DAYLIGHT
BEGIN:STANDARD
TZOFFSETFROM:+0200
TZOFFSETTO:+0100
TZNAME:CET
DTSTART:20181028T010000
END:STANDARD
END:VTIMEZONE
BEGIN:VEVENT
DTSTART;TZID=Europe/Berlin:20180610T130000
DTEND;TZID=Europe/Berlin:20180610T170000
DTSTAMP:20260420T100744
CREATED:20180608T095929Z
LAST-MODIFIED:20180608T095929Z
UID:749-1528635600-1528650000@malobeo.org
SUMMARY:10.6.2018 – Außerplanmäßiges Gesamtplenum No. 2
DESCRIPTION:[ Hier geht’s zum ersten Außerplanmäßigen Gesamtplenum ] \n  \nWir wollen bei diesem zweiten Außerplanmäßigen Gesamtplenum weiter an der Konfliktlösung (siehe Link oben) dranbleiben. Wir werden uns tiefergehend mit Handlungsmöglichkeiten beschäftigen\, wie ein solidarischeres und verantwortungsvolleres Klima des Zusammenseins und des kollektiven Arbeitens geschaffen werden kann. \nWie immer freuen wir uns über viele interessierte Teilnehmer_innen. Spoiler: Es wird Snacks geben. \nDas malobeo Kollektiv
URL:https://malobeo.org/event/10-6-2018-auserplanmasiges-gesamtplenum-no-2/
LOCATION:malobeo\, Kamenzer Straße 38\, Dresden\, Sucksen\, 01099\, Germany
CATEGORIES:Offenes Treffen
ATTACH;FMTTYPE=image/png:https://malobeo.org/wp-content/uploads/2018/05/1ljUNQL_EWjhZJ-GFrRIcYA.png
END:VEVENT
END:VCALENDAR