BEGIN:VCALENDAR
VERSION:2.0
PRODID:-//malobeo – alternatives café und anarchistische bibliothek - ECPv5.14.0.1//NONSGML v1.0//EN
CALSCALE:GREGORIAN
METHOD:PUBLISH
X-WR-CALNAME:malobeo – alternatives café und anarchistische bibliothek
X-ORIGINAL-URL:https://malobeo.org
X-WR-CALDESC:Veranstaltungen für malobeo – alternatives café und anarchistische bibliothek
BEGIN:VTIMEZONE
TZID:Europe/Berlin
BEGIN:DAYLIGHT
TZOFFSETFROM:+0100
TZOFFSETTO:+0200
TZNAME:CEST
DTSTART:20190331T010000
END:DAYLIGHT
BEGIN:STANDARD
TZOFFSETFROM:+0200
TZOFFSETTO:+0100
TZNAME:CET
DTSTART:20191027T010000
END:STANDARD
END:VTIMEZONE
BEGIN:VEVENT
DTSTART;TZID=Europe/Berlin:20190813T190000
DTEND;TZID=Europe/Berlin:20190813T193000
DTSTAMP:20260420T153754
CREATED:20190813T132835Z
LAST-MODIFIED:20190813T132835Z
UID:1422-1565722800-1565724600@malobeo.org
SUMMARY:13.08. - Vor-KüfA-Input: en memoria de delfin guerra & raúl garcia paret
DESCRIPTION:Einen Tag nach dem 12. August – dem Jahrestag der Ermordung von Raúl Garcia Paret und Delfin Guerra – möchten wir vor der Küfa mit euch eine kurze Doku  über den Mord schauen. \nContentWarning für die Doku: Rassismus\, Täter*innenperspektive\, Gewaltdarstellung.\nWir schauen die Doku 19 Uhr\, sie dauert etwa 7 Minuten. \nAnschließend möchten wir die Möglichkeit geben\, über die Doku ins Gespräch zu kommen. \nHINTERGRUND:\n„Raúl García Paret und Delfin Guerra kamen als Vertragsarbeiter aus Kuba in die DDR und lebten und arbeiteten in Merseburg. Aufgrund rassistischer Angriffe am Vortag\, setzten sich mehrere kubanische Vertragsarbeiter am 12. August in einer Diskothek zur Wehr\, woraufhin sie von einem rassistischen Mob durch die Stadt gejagt wurden. Als ihnen der Weg auf einer Brücke versperrt wird\, sahen sie keinen anderen Ausweg\, als in die Saale zu springen. Die Angreifenden warfen mit Flaschen und Steinen nach ihnen und trafen. Raúl García Paret und Delfin Guerra starben im Alter von 21 und 18 Jahren.\nIn diesem Jahr jährt sich ihr Todestag zum 40. Mal. Die Tat scheint längst vergessen in der Stadt. Die Todesumstände wurden bis heute nicht ausreichend ermittelt und keine Täter*innen zur Verantwortung gezogen.“\nhttps://initiative12august.de/
URL:https://malobeo.org/event/13-08-vor-kuefa-input-en-memoria-de-delfin-guerra-raul-garcia-paret/
LOCATION:malobeo\, Kamenzer Straße 38\, Dresden\, Sucksen\, 01099\, Germany
CATEGORIES:AntiFa,AntiRa,Antirep,Erinnerungskultur,KüfA
ATTACH;FMTTYPE=image/png:https://malobeo.org/wp-content/uploads/2019/08/12-august.png
END:VEVENT
END:VCALENDAR