BEGIN:VCALENDAR
VERSION:2.0
PRODID:-//malobeo – alternatives café und anarchistische bibliothek - ECPv5.14.0.1//NONSGML v1.0//EN
CALSCALE:GREGORIAN
METHOD:PUBLISH
X-WR-CALNAME:malobeo – alternatives café und anarchistische bibliothek
X-ORIGINAL-URL:https://malobeo.org
X-WR-CALDESC:Veranstaltungen für malobeo – alternatives café und anarchistische bibliothek
BEGIN:VTIMEZONE
TZID:Europe/Berlin
BEGIN:DAYLIGHT
TZOFFSETFROM:+0100
TZOFFSETTO:+0200
TZNAME:CEST
DTSTART:20190331T010000
END:DAYLIGHT
BEGIN:STANDARD
TZOFFSETFROM:+0200
TZOFFSETTO:+0100
TZNAME:CET
DTSTART:20191027T010000
END:STANDARD
END:VTIMEZONE
BEGIN:VEVENT
DTSTART;TZID=Europe/Berlin:20191013T140000
DTEND;TZID=Europe/Berlin:20191013T170000
DTSTAMP:20260420T153534
CREATED:20191009T223012Z
LAST-MODIFIED:20191009T223542Z
UID:1511-1570975200-1570986000@malobeo.org
SUMMARY:13.10. Lesekreis - More than words. Tierbefreiung DD
DESCRIPTION:Ihr habt ein Buch\, ein Magazin oder einen Text gelesen\, den ihr schon\nimmer mal gern mit anderen Aktivist*innen teilen und besprechen wolltet?\nDann habt ihr nächsten Sonntag die perfekte Gelegenheit dazu\, denn wir\nmöchten gern über euer Mitgebrachtes sprechen. Sucht gern\nnoch Informationen über eure Autor*innen raus und überlegt\, ob ihr uns\nauch eine Passage vorlesen möchtet. \n  \nIm Lesekreis wollen wir uns mit Büchern\, Aufsätzen\, Texten und Schriften zum Mensch-Tier-Verhältnis beschäftigen. Wir möchten sowohl Geschichte als auch aktuelle Diskussionen aufgreifen\, gemeinsam mit euch lesen und in entspannter Atmosphäre mit euch durchdenken. Es wird einsteiger*innenfreundlich gestaltet sein\, besondere Vorkenntnisse sind also nicht nötig. \nDer Lesekreis soll auch dazu genutzt werden\, um die Gruppe besser kennenzulernen und sich gegenseitig auszutauschen. Wenn du Lust hast mitzumachen oder dir den Lesekreis einfach mal angucken möchtest\, komm gerne vorbei.
URL:https://malobeo.org/event/13-10-lesekreis-more-than-words-tierbefreiung-dd/
LOCATION:malobeo\, Kamenzer Straße 38\, Dresden\, Sucksen\, 01099\, Germany
CATEGORIES:AntiSpe,Lesekreis,Tierbefreiung Dresden
ATTACH;FMTTYPE=image/jpeg:https://malobeo.org/wp-content/uploads/2019/10/72066645_2422648964670940_5565423475469844480_o.jpg
END:VEVENT
END:VCALENDAR