BEGIN:VCALENDAR
VERSION:2.0
PRODID:-//malobeo – alternatives café und anarchistische bibliothek - ECPv5.14.0.1//NONSGML v1.0//EN
CALSCALE:GREGORIAN
METHOD:PUBLISH
X-WR-CALNAME:malobeo – alternatives café und anarchistische bibliothek
X-ORIGINAL-URL:https://malobeo.org
X-WR-CALDESC:Veranstaltungen für malobeo – alternatives café und anarchistische bibliothek
BEGIN:VTIMEZONE
TZID:Europe/Berlin
BEGIN:DAYLIGHT
TZOFFSETFROM:+0100
TZOFFSETTO:+0200
TZNAME:CEST
DTSTART:20220327T010000
END:DAYLIGHT
BEGIN:STANDARD
TZOFFSETFROM:+0200
TZOFFSETTO:+0100
TZNAME:CET
DTSTART:20221030T010000
END:STANDARD
END:VTIMEZONE
BEGIN:VEVENT
DTSTART;TZID=Europe/Berlin:20221213T160000
DTEND;TZID=Europe/Berlin:20221213T210000
DTSTAMP:20260420T103613
CREATED:20221127T160426Z
LAST-MODIFIED:20221127T160426Z
UID:3173-1670947200-1670965200@malobeo.org
SUMMARY:13.12.: ACAB* – Crafting – Basteln
DESCRIPTION:ACAB* – Crafting – Basteln \nDi./Tu.\, 13.12. @malobeo \n🔪16:30 – Cooking / Gemeinsames Kochen\n🍝19:00 – Eating / Essen / KüfA\n🪄17:00 – lino printing/painting/sewing/ embroider – Drucken/Malen/Nähen/Sticken \nAnarchist Network Dresden invites you to the ACAB* – Crafting event. This Tuesday we want to do Lino printing and make patches by ourselves\, sew and embroider and teach each other how to do that. We have different lino printing blocks and colors to print\, but you can also cut a new one. We have ink and fabric to paint your new patch. A sewing machine is there as well. Feel free to bring more specific materials you think is useful to be creative.\nWe also can discuss what is actually the problem with police in our communities and we will bring some material on the topic. We are looking forward to meet you. \n*All Cops Are Bad (we don’t use „bastards“ because of the origin of the word „bastard“)\n—\nDas Anarchistische Netzwerk Dresden lädt ein zum ACAB – Bastel Event. Diesen Dienstag wollen wir Linoldruck machen und Aufnäher selbst herstellen\, nähen und sticken und uns gegenseitig beibringen\, wie wir das machen können. Wir haben verschiedene Linoldruckstöcke und Farben zum Drucken\, aber ihr könnt auch ein neues Motiv ausschneiden. Wir haben Textilfarbe und Stoff\, mit denen du deinen neuen Aufnäher malen kannst. Eine Nähmaschine ist ebenfalls vorhanden. Ihr könnt auch gerne andere Materialien mitbringen\, die ihr für nützlich findet\, um kreativ zu sein.\nWir können auch darüber diskutieren\, was eigentlich das Problem mit der Polizei in unseren Gemeinschaften ist\, und wir werden Material zu dem Thema mitbringen.\nWir freuen uns auf euch. \n*All Cops Are Bad (wir verwenden „Bastard“ nicht wegen des Ursprungs des Wortes)
URL:https://malobeo.org/event/13-12-acab-crafting-basteln/
CATEGORIES:Antirep,KüfA,Workshop, Vortrag, Diskussion
ATTACH;FMTTYPE=image/jpeg:https://malobeo.org/wp-content/uploads/2022/11/photo_2022-11-26_17-48-07.jpg
END:VEVENT
END:VCALENDAR