BEGIN:VCALENDAR
VERSION:2.0
PRODID:-//malobeo – alternatives café und anarchistische bibliothek - ECPv5.14.0.1//NONSGML v1.0//EN
CALSCALE:GREGORIAN
METHOD:PUBLISH
X-WR-CALNAME:malobeo – alternatives café und anarchistische bibliothek
X-ORIGINAL-URL:https://malobeo.org
X-WR-CALDESC:Veranstaltungen für malobeo – alternatives café und anarchistische bibliothek
BEGIN:VTIMEZONE
TZID:Europe/Berlin
BEGIN:DAYLIGHT
TZOFFSETFROM:+0100
TZOFFSETTO:+0200
TZNAME:CEST
DTSTART:20180325T010000
END:DAYLIGHT
BEGIN:STANDARD
TZOFFSETFROM:+0200
TZOFFSETTO:+0100
TZNAME:CET
DTSTART:20181028T010000
END:STANDARD
END:VTIMEZONE
BEGIN:VEVENT
DTSTART;TZID=Europe/Berlin:20180313T190000
DTEND;TZID=Europe/Berlin:20180313T230000
DTSTAMP:20260420T131657
CREATED:20180312T175032Z
LAST-MODIFIED:20181203T131614Z
UID:445-1520967600-1520982000@malobeo.org
SUMMARY:13.3.2018 – KüfA & Kino
DESCRIPTION:The movie shows the chronicles of the tale of two unlikely friends who commit petty crimes as they search for a path to understanding themselves and the outside world. Shy (a transgender man)\, who leaves his small town after the death of his father\, and heads to the big city to live a life of crime. Along the way\, he encounters Valentine\, a quirky adoptee\, in search of his birth mother. An immediate kinship is sparked between these men and they become partners in crime. Suffering money troubles\, emotional problems\, and physical confrontations\, the duo face their issues head on and learn to trust each other and support each other in pursuit of their goals. \n  \n19:00 Küche für Alle\n 20:00 Film
URL:https://malobeo.org/event/13-3-2018-kuefa-kino/
LOCATION:malobeo\, Kamenzer Straße 38\, Dresden\, Sucksen\, 01099\, Germany
CATEGORIES:kino liberecano
ATTACH;FMTTYPE=image/jpeg:https://malobeo.org/wp-content/uploads/2018/03/ByHookOrByCrook_1280x720.jpg
END:VEVENT
END:VCALENDAR