BEGIN:VCALENDAR
VERSION:2.0
PRODID:-//malobeo – alternatives café und anarchistische bibliothek - ECPv5.14.0.1//NONSGML v1.0//EN
CALSCALE:GREGORIAN
METHOD:PUBLISH
X-WR-CALNAME:malobeo – alternatives café und anarchistische bibliothek
X-ORIGINAL-URL:https://malobeo.org
X-WR-CALDESC:Veranstaltungen für malobeo – alternatives café und anarchistische bibliothek
BEGIN:VTIMEZONE
TZID:Europe/Berlin
BEGIN:DAYLIGHT
TZOFFSETFROM:+0100
TZOFFSETTO:+0200
TZNAME:CEST
DTSTART:20180325T010000
END:DAYLIGHT
BEGIN:STANDARD
TZOFFSETFROM:+0200
TZOFFSETTO:+0100
TZNAME:CET
DTSTART:20181028T010000
END:STANDARD
END:VTIMEZONE
BEGIN:VEVENT
DTSTART;TZID=Europe/Berlin:20180914T173000
DTEND;TZID=Europe/Berlin:20180914T193000
DTSTAMP:20260420T141621
CREATED:20180905T104507Z
LAST-MODIFIED:20180906T080646Z
UID:924-1536946200-1536953400@malobeo.org
SUMMARY:14.9.2018 – LiTa 2018: Einführungsworkshop zu Justizsystem\, Strafe und Knast
DESCRIPTION:Das moderne Justizsystem ist nicht älter als ein paar hundert Jahre. Massive Knastkomplexe\, benutzt zur Bestrafung und Unterjochung von ungehorsamen Teilen der Gesellschaft\, sind Alltag in kapitalistischen Ländern. Die Privatisierung der Knäste ändert das Konzept der Bestrafung in ein profitables Geschäft mit Gefangenen\, welche heutzutage nicht nur Kleidung für Polizei und Militär herstellen\, sondern auch in alltäglichen Bereichen von Lebensmittelherstellung\, Autoteileproduktion bis zur Arbeit im Callcenter deines Internet-Providerseingesetzt werden. \nIn diesem Workshop möchten wir uns mit den verschiedenen Begriffen\, die Knäste mit sich bringen\, kritisch auseinander setzen. Wie erfahren wir dieses staatliche System von Gerechtigkeit? Welche gesellschaftlichen Ideen von Strafe existieren? Was sind andere Ansätze um mit sozialen Konflikten umzugehen? Gibt es überhaupt eine Alternative zu Knästen? Wir denken ja und wir hoffen die Türen der Knäste zu öffnen\, indem wir über eine Zukunft mit leeren Zellen nachdenken. \n\n  \nDiese Veranstaltung ist Teil der Libertären Tage 2018. Das ganze Programm findet ihr hier. Alle Veranstaltungen im malobeo findet ihr hier.
URL:https://malobeo.org/event/14-9-2018-lita-2018-einfuhrungsworkshop-zu-justizsystem-strafe-und-knast/
LOCATION:malobeo\, Kamenzer Straße 38\, Dresden\, Sucksen\, 01099\, Germany
CATEGORIES:Libertäre Tage
ATTACH;FMTTYPE=image/png:https://malobeo.org/wp-content/uploads/2018/09/lita-2018-cover.png
END:VEVENT
END:VCALENDAR