BEGIN:VCALENDAR
VERSION:2.0
PRODID:-//malobeo – alternatives café und anarchistische bibliothek - ECPv5.14.0.1//NONSGML v1.0//EN
CALSCALE:GREGORIAN
METHOD:PUBLISH
X-WR-CALNAME:malobeo – alternatives café und anarchistische bibliothek
X-ORIGINAL-URL:https://malobeo.org
X-WR-CALDESC:Veranstaltungen für malobeo – alternatives café und anarchistische bibliothek
BEGIN:VTIMEZONE
TZID:Europe/Berlin
BEGIN:DAYLIGHT
TZOFFSETFROM:+0100
TZOFFSETTO:+0200
TZNAME:CEST
DTSTART:20180325T010000
END:DAYLIGHT
BEGIN:STANDARD
TZOFFSETFROM:+0200
TZOFFSETTO:+0100
TZNAME:CET
DTSTART:20181028T010000
END:STANDARD
END:VTIMEZONE
BEGIN:VEVENT
DTSTART;TZID=Europe/Berlin:20180914T160000
DTEND;TZID=Europe/Berlin:20180914T170000
DTSTAMP:20260420T131942
CREATED:20180906T075734Z
LAST-MODIFIED:20180914T130537Z
UID:932-1536940800-1536944400@malobeo.org
SUMMARY:14.9.2018 – LiTa 2018: Emotionale Solidarität
DESCRIPTION:Im Streben nach einem anderen\, positiven Verhältnis zur Welt\, zu den Menschen und zu sich selbst beruht die Schaffung einer sozialen Ordnung im Anarchismus auf verschiedenen Grundlagen: gegenseitige Hilfe statt Konkurrenz\, freie Vereinbarung statt Befehlsprinzip\, Menschenwürde statt Erniedrigung und eben Solidarität statt Egoismus.\nJa\, Solidarität ist einer der Grundpfeiler des anarchistischen Zusammenlebens. Sie entspringt einer altruistischen Motivation bei dem sich der*die Handelnde von der Idee der Gerechtigkeit leiten lässt. Doch was bedeutet sie\, für uns\, für andere\, für politische Arbeit oder gar Zukunftsvisionen?!\n  \nDiese Veranstaltung ist Teil der Libertären Tage 2018. Das ganze Programm findet ihr hier. Alle Veranstaltungen im malobeo findet ihr hier.
URL:https://malobeo.org/event/14-9-2018-lita-2018-emotionale-solidaritat/
LOCATION:malobeo\, Kamenzer Straße 38\, Dresden\, Sucksen\, 01099\, Germany
CATEGORIES:Libertäre Tage
ATTACH;FMTTYPE=image/png:https://malobeo.org/wp-content/uploads/2018/09/lita-2018-cover.png
END:VEVENT
END:VCALENDAR