BEGIN:VCALENDAR
VERSION:2.0
PRODID:-//malobeo – alternatives café und anarchistische bibliothek - ECPv5.14.0.1//NONSGML v1.0//EN
CALSCALE:GREGORIAN
METHOD:PUBLISH
X-WR-CALNAME:malobeo – alternatives café und anarchistische bibliothek
X-ORIGINAL-URL:https://malobeo.org
X-WR-CALDESC:Veranstaltungen für malobeo – alternatives café und anarchistische bibliothek
BEGIN:VTIMEZONE
TZID:Europe/Berlin
BEGIN:DAYLIGHT
TZOFFSETFROM:+0100
TZOFFSETTO:+0200
TZNAME:CEST
DTSTART:20180325T010000
END:DAYLIGHT
BEGIN:STANDARD
TZOFFSETFROM:+0200
TZOFFSETTO:+0100
TZNAME:CET
DTSTART:20181028T010000
END:STANDARD
END:VTIMEZONE
BEGIN:VEVENT
DTSTART;TZID=Europe/Berlin:20180914T203000
DTEND;TZID=Europe/Berlin:20180914T213000
DTSTAMP:20260420T132242
CREATED:20180905T102631Z
LAST-MODIFIED:20180906T080223Z
UID:926-1536957000-1536960600@malobeo.org
SUMMARY:14.9.2018 – LiTa 2018: Gegen das neue Polizeigesetz in Sachsen!
DESCRIPTION:Are you concerned about next elections in Saxony and the growth of authoritarian mood in society? Well you are not alone. However on top of that current local government is going to push new police law in Saxony that is going to affect all of us not only in Dresden\, but all arounf the federal state. Surveillance\, control\, gathering of information on wide spectrum of people – this is just a short description of what is coming.\nPolice is a direct arm of repression of state and during this presentation we would like to see what might be the consequences for all of us not only as anarchists but those interested in politics if the new law passes.\nPresentation will be in english with possibility for german translation. \n  \nDiese Veranstaltung ist Teil der Libertären Tage 2018. Das ganze Programm findet ihr hier. Alle Veranstaltungen im malobeo findet ihr hier.
URL:https://malobeo.org/event/14-9-2018-lita-2018-gegen-das-neue-polizeigesetz-in-sachsen/
LOCATION:malobeo\, Kamenzer Straße 38\, Dresden\, Sucksen\, 01099\, Germany
CATEGORIES:Libertäre Tage
ATTACH;FMTTYPE=image/png:https://malobeo.org/wp-content/uploads/2018/09/lita-2018-cover.png
END:VEVENT
END:VCALENDAR