BEGIN:VCALENDAR
VERSION:2.0
PRODID:-//malobeo – alternatives café und anarchistische bibliothek - ECPv5.14.0.1//NONSGML v1.0//EN
CALSCALE:GREGORIAN
METHOD:PUBLISH
X-WR-CALNAME:malobeo – alternatives café und anarchistische bibliothek
X-ORIGINAL-URL:https://malobeo.org
X-WR-CALDESC:Veranstaltungen für malobeo – alternatives café und anarchistische bibliothek
BEGIN:VTIMEZONE
TZID:Europe/Berlin
BEGIN:DAYLIGHT
TZOFFSETFROM:+0100
TZOFFSETTO:+0200
TZNAME:CEST
DTSTART:20190331T010000
END:DAYLIGHT
BEGIN:STANDARD
TZOFFSETFROM:+0200
TZOFFSETTO:+0100
TZNAME:CET
DTSTART:20191027T010000
END:STANDARD
END:VTIMEZONE
BEGIN:VEVENT
DTSTART;TZID=Europe/Berlin:20190315T180000
DTEND;TZID=Europe/Berlin:20190315T230000
DTSTAMP:20260420T100917
CREATED:20190313T171858Z
LAST-MODIFIED:20190313T171953Z
UID:1277-1552672800-1552690800@malobeo.org
SUMMARY:15.03. Polizeigesetz stoppen! Film & Küfa
DESCRIPTION:Unsere Mitstreiter*innen von Sachsens Demokratie organisieren eine Aktionswoche gegen das geplante sächsische Polizeigesetz. Aus diesem Anlass werden wir am Freitag einen Film über Militarisierung und Gewalt der US-Amerikanischen Polizei zeigen. \n20:00 Küfa (Küche für Alle) \n21:00 Film
URL:https://malobeo.org/event/15-03-polizeigesetz-stoppen-film-kuefa/
CATEGORIES:AntiRa,Antirep,kino liberecano,KüfA,Polizeigesetz stoppen!
ATTACH;FMTTYPE=image/jpeg:https://malobeo.org/wp-content/uploads/2019/03/1ba8ded7c0d28d3f6a558d2be7630495a42edfb0.jpg
END:VEVENT
END:VCALENDAR