BEGIN:VCALENDAR
VERSION:2.0
PRODID:-//malobeo – alternatives café und anarchistische bibliothek - ECPv5.14.0.1//NONSGML v1.0//EN
CALSCALE:GREGORIAN
METHOD:PUBLISH
X-WR-CALNAME:malobeo – alternatives café und anarchistische bibliothek
X-ORIGINAL-URL:https://malobeo.org
X-WR-CALDESC:Veranstaltungen für malobeo – alternatives café und anarchistische bibliothek
BEGIN:VTIMEZONE
TZID:Europe/Berlin
BEGIN:DAYLIGHT
TZOFFSETFROM:+0100
TZOFFSETTO:+0200
TZNAME:CEST
DTSTART:20220327T010000
END:DAYLIGHT
BEGIN:STANDARD
TZOFFSETFROM:+0200
TZOFFSETTO:+0100
TZNAME:CET
DTSTART:20221030T010000
END:STANDARD
END:VTIMEZONE
BEGIN:VEVENT
DTSTART;TZID=Europe/Berlin:20220915T160000
DTEND;TZID=Europe/Berlin:20220915T180000
DTSTAMP:20260420T101256
CREATED:20220828T123913Z
LAST-MODIFIED:20220829T110125Z
UID:3042-1663257600-1663264800@malobeo.org
SUMMARY:15.09. LiTa: Mit\, gegen oder jenseits von Politik? – Veranstaltung zur Reflexion über unser Politikverständnis [de]
DESCRIPTION:Input & workshop | 15.09.  | 16:00 – 18:00 Uhr | Programm LiTa\n\n\n\n\nEs gibt gute Gründe\, die Politik von Regierungen\, staatlichen Institutionen\, Parteien und NGOs zu kritisieren. Gleichzeitig wollen Menschen in selbstorganisierten Zusammenhängen eigene Politik hervorbringen. Anarchist*innen haben eine grundsätzliche Skepsis gegenüber dem Politikmachen überhaupt. In der politischen Theorie des Anarchismus werden Individuen\, das Soziale\, die Gesellschaft\, die Ökonomie und die Gemeinschaft als Gegenpole zur Politik verstanden\, während letztere oftmals dem staatlichen Herrschaftsverhältnis zugeordnet wird.\nIst politisches Handeln überhaupt etwas\, was wir verfolgen sollten? Wann\, unter welchen Umständen und wie agieren wir auf dem politischen Feld? Gibt es eine autonome Politik und was sind ihre Kriterien?\nWenn wir diesen Fragen nachgehen\, können wir andere Praxisformen entdecken\, selbstbestimmter und zielgerichteter in gesellschaftlichen Widersprüchen handeln – und den Politikbegriff strategisch mit unseren eigenen Inhalten und Erfahrungen füllen.\nNach einem Input zum Thema werden wir in kleinen Gruppen über unser Politikverständnis reflektieren und uns gemeinsam darüber austauschen\, welchen Blick wir auf emanzipatorische Auseinandersetzungen haben.\nEin Workshop zur politischen Theorie des Anarchismus.\n\n\n\n\n  \nCorona: bitte kommt getestet und tragt in allen Innenräume eine FFP2 Maske.\nAccess: Innenräume und Garten sind mit einer Rollstuhlrampe zugänglich. Das WC ist nicht barrierearm und nicht mit dem Rollstuhl befahrbar.\nKinder: es gibt eine Kinderspielecke\, aber bisher keine Betreuung.
URL:https://malobeo.org/event/15-09-lita-mit-gegen-oder-jenseits-von-politik-veranstaltung-zur-reflexion-ueber-unser-politikverstaendnis-de/
LOCATION:malobeo\, Kamenzer Straße 38\, Dresden\, Sucksen\, 01099\, Germany
CATEGORIES:Lesekreis,Libertäre Tage,Theorie
ATTACH;FMTTYPE=image/jpeg:https://malobeo.org/wp-content/uploads/2022/08/983606_277851592351382_1714764719_n.jpg
END:VEVENT
END:VCALENDAR