BEGIN:VCALENDAR
VERSION:2.0
PRODID:-//malobeo – alternatives café und anarchistische bibliothek - ECPv5.14.0.1//NONSGML v1.0//EN
CALSCALE:GREGORIAN
METHOD:PUBLISH
X-WR-CALNAME:malobeo – alternatives café und anarchistische bibliothek
X-ORIGINAL-URL:https://malobeo.org
X-WR-CALDESC:Veranstaltungen für malobeo – alternatives café und anarchistische bibliothek
BEGIN:VTIMEZONE
TZID:Europe/Berlin
BEGIN:DAYLIGHT
TZOFFSETFROM:+0100
TZOFFSETTO:+0200
TZNAME:CEST
DTSTART:20190331T010000
END:DAYLIGHT
BEGIN:STANDARD
TZOFFSETFROM:+0200
TZOFFSETTO:+0100
TZNAME:CET
DTSTART:20191027T010000
END:STANDARD
END:VTIMEZONE
BEGIN:VEVENT
DTSTART;TZID=Europe/Berlin:20190116T170000
DTEND;TZID=Europe/Berlin:20190116T190000
DTSTAMP:20260423T101713
CREATED:20190110T194029Z
LAST-MODIFIED:20190110T194029Z
UID:1168-1547658000-1547665200@malobeo.org
SUMMARY:16.01.2019 – AG Öffentlichkeitsarbeit & AG Veranstaltungen
DESCRIPTION:Die AG Veranstaltungen und die AG Öffentlichkeitsarbeit wurden zusammen gelegt und finden jetzt jeden Mittwoch um 17:00 Uhr statt. \nDie AG “Veranstaltungen” organisiert und koordiniert Veranstaltungen. Die Bearbeitung von Veranstaltungsanfragen fällt ebenso darunter wie die Erarbeitung eigener Veranstaltungsreihen. \nDie AG “Öffentlichkeitsarbeit” arbeitet an der Außenkommunikation\, kümmert sich um die IT\, bewirbt Veranstaltungen und bearbeitet Zuschriften.
URL:https://malobeo.org/event/16-01-2019-ag-offentlichkeitsarbeit-ag-veranstaltungen/
LOCATION:malobeo\, Kamenzer Straße 38\, Dresden\, Sucksen\, 01099\, Germany
CATEGORIES:Offenes Treffen
ATTACH;FMTTYPE=image/jpeg:https://malobeo.org/wp-content/uploads/2016/01/Veranstaltungen.jpg
END:VEVENT
END:VCALENDAR