BEGIN:VCALENDAR
VERSION:2.0
PRODID:-//malobeo – alternatives café und anarchistische bibliothek - ECPv5.14.0.1//NONSGML v1.0//EN
CALSCALE:GREGORIAN
METHOD:PUBLISH
X-WR-CALNAME:malobeo – alternatives café und anarchistische bibliothek
X-ORIGINAL-URL:https://malobeo.org
X-WR-CALDESC:Veranstaltungen für malobeo – alternatives café und anarchistische bibliothek
BEGIN:VTIMEZONE
TZID:Europe/Berlin
BEGIN:DAYLIGHT
TZOFFSETFROM:+0100
TZOFFSETTO:+0200
TZNAME:CEST
DTSTART:20240331T010000
END:DAYLIGHT
BEGIN:STANDARD
TZOFFSETFROM:+0200
TZOFFSETTO:+0100
TZNAME:CET
DTSTART:20241027T010000
END:STANDARD
END:VTIMEZONE
BEGIN:VEVENT
DTSTART;TZID=Europe/Berlin:20240316T173000
DTEND;TZID=Europe/Berlin:20240316T200000
DTSTAMP:20260420T141708
CREATED:20240108T083131Z
LAST-MODIFIED:20240306T121617Z
UID:3577-1710610200-1710619200@malobeo.org
SUMMARY:16.3.: Workshop: Strategien des Polizeiverhörs und wie wir uns dagegen wehren können
DESCRIPTION:Strategien des Polizeiverhörs und wie wir uns dagegen wehren können\nSa.\, 16.3.2024\, 17:30 \n@malobeo\, Kamenzer Straße 38\, 01099 Dresden \nIm Rahmen von Aktionen rum um den Internationalen Tag gegen Polizeigewalt (am 15. März) finden in Dresden verschiedene Vorträge und Workshops statt. \nEins davon ist der Workshop im malobeo\, der ein Blick hinter die Kulissen eines Polizeiverhörs gibt. Welche Strategien die Polizei lernt\, um uns zu verhören und wie wir uns dagegen wehren können. \nFassen wir den Kontext in den du gestellt wirst\, wenn du eine Verhörsituation erlebst\, noch mal zusammen: Du hast nur lückenhafte Informationen über die Ermittlungen\, die dich betreffen\, und über das Material\, das die Polizei in Händen hält. Du erlebst einen ungewöhnlichen und stressigen Moment. Du bist unsicher\, was in Zukunft passieren wird. Wenn du in Haft genommen wirst\, bist du einer ganzen Reihe von zusätzlichen Belastungen ausgesetzt\, die abhängig von deinen Haftbedingungen und deinem Freiheitsentzug sind. Dir stehen Personen gegenüber\, die in weitreichenden Manipulationstechniken ausgebildet sind\, über viel professionelle Erfahrung in diesem Bereich verfügen und dein Profil mehr oder weniger gut kennen.\nAlle Strategien und Techniken der Polizei haben eine Gemeinsamkeit: Um ihre Ziele zu erreichen\, ist die Beteiligung der befragten Person notwendig\, wenn nicht sogar unerlässlich. Dieses Element stellt deine beste Verteidigungsmöglichkeit dar\, die du besitzt. Wenn du diese Zusammenarbeit verweigerst\, zerstörst du die Waffen\, die die Polizei gegen dich verwenden könnte.
URL:https://malobeo.org/event/16-3-workshop-strategien-des-polizeiverhoers-und-wie-wir-uns-dagegen-wehren-koennen/
CATEGORIES:Antirep
ATTACH;FMTTYPE=image/jpeg:https://malobeo.org/wp-content/uploads/2024/01/lala.jpg
END:VEVENT
END:VCALENDAR