BEGIN:VCALENDAR
VERSION:2.0
PRODID:-//malobeo – alternatives café und anarchistische bibliothek - ECPv5.14.0.1//NONSGML v1.0//EN
CALSCALE:GREGORIAN
METHOD:PUBLISH
X-WR-CALNAME:malobeo – alternatives café und anarchistische bibliothek
X-ORIGINAL-URL:https://malobeo.org
X-WR-CALDESC:Veranstaltungen für malobeo – alternatives café und anarchistische bibliothek
BEGIN:VTIMEZONE
TZID:Europe/Berlin
BEGIN:DAYLIGHT
TZOFFSETFROM:+0100
TZOFFSETTO:+0200
TZNAME:CEST
DTSTART:20190331T010000
END:DAYLIGHT
BEGIN:STANDARD
TZOFFSETFROM:+0200
TZOFFSETTO:+0100
TZNAME:CET
DTSTART:20191027T010000
END:STANDARD
END:VTIMEZONE
BEGIN:VEVENT
DTSTART;TZID=Europe/Berlin:20191017T163000
DTEND;TZID=Europe/Berlin:20191017T180000
DTSTAMP:20260420T141621
CREATED:20191009T182119Z
LAST-MODIFIED:20200910T125400Z
UID:1504-1571329800-1571335200@malobeo.org
SUMMARY:17.10. - Lesekreis "Schwarzer Feminismus. Grundlagentexte" Natasha A.Kelly
DESCRIPTION:Postkolonialer Lesekreis\nWir lesen: „Schwarzer Feminismus. Grundlagentexte“ von Natasha A. Kelly\nJeden Donnerstag 16:30 im malobeo \nAm 10.10. startet unser postkolonialer Lesekreis. Wir lesen das Buch „Schwarzer Feminismus. Grundlagentexte“ von Natasha A. Kelly.\nWenn ihr auch Lust habt mitzulesen\, mitzudiskutieren\, euch auszutauschen\, kommt vorbei! \nIntern kommunizieren wir über ein Pad\, mit dem es ganz leicht ist Überblick über Kapitel\, Leseabmachungen und Diskussionen zu behalten.\nIst es euch aus irgendwelchen Gründen nicht möglich euch das Buch selbst zuzulegen\, finden wir als Gruppe damit einen Umgang 🙂 \n______________________________________________\nDas malobeo hat einen Wickeltisch\, eine Kinderspielecke und eine mobile Rollstuhlrampe. Das WC ist nicht barrierefrei. \n  \nhttps://www.unrast-verlag.de/neuerscheinungen/schwarzer-feminismus-detail \n  \nDer Lesekreis wird gefördert von durch das Förderprogramm „Wir für Sachsen“
URL:https://malobeo.org/event/17-10-lesekreis-schwarzer-feminismus-grundlagentexte-natasha-a-kelly/
LOCATION:malobeo\, Kamenzer Straße 38\, Dresden\, Sucksen\, 01099\, Germany
CATEGORIES:AntiRa,Lesekreis
ATTACH;FMTTYPE=image/jpeg:https://malobeo.org/wp-content/uploads/2019/10/317_kelly_schwarzer-feminismus_presse.jpg
END:VEVENT
END:VCALENDAR