BEGIN:VCALENDAR
VERSION:2.0
PRODID:-//malobeo – alternatives café und anarchistische bibliothek - ECPv5.14.0.1//NONSGML v1.0//EN
CALSCALE:GREGORIAN
METHOD:PUBLISH
X-WR-CALNAME:malobeo – alternatives café und anarchistische bibliothek
X-ORIGINAL-URL:https://malobeo.org
X-WR-CALDESC:Veranstaltungen für malobeo – alternatives café und anarchistische bibliothek
BEGIN:VTIMEZONE
TZID:Europe/Berlin
BEGIN:DAYLIGHT
TZOFFSETFROM:+0100
TZOFFSETTO:+0200
TZNAME:CEST
DTSTART:20260329T010000
END:DAYLIGHT
BEGIN:STANDARD
TZOFFSETFROM:+0200
TZOFFSETTO:+0100
TZNAME:CET
DTSTART:20261025T010000
END:STANDARD
END:VTIMEZONE
BEGIN:VEVENT
DTSTART;TZID=Europe/Berlin:20260217T160000
DTEND;TZID=Europe/Berlin:20260217T210000
DTSTAMP:20260420T104030
CREATED:20260207T114304Z
LAST-MODIFIED:20260207T114304Z
UID:4208-1771344000-1771362000@malobeo.org
SUMMARY:17.2.: Soli event für Antifa-Gym in Kyiv + KüfA
DESCRIPTION:Tuesday\, 17.02.2026 | 7pm\nSolidarity event for Antifa Gym in Kyiv \nMalobeo | slideshow | auction | Solidarity cocktails made from kvass\n@Malobeo\, Kamenzer Str. 38\, Dresden \n[Deutsch Unten] \nIn the frame of week of solidarity with Ukraine \nHello friends. As some of you may already know\, a few activists from Dresden traveled through Ukraine last October. They networked and exchanged ideas with local groups\, collectives\, and individuals to learn how activism continues in times of war. The full travel report is available here: https://a-dresden.org/en/2025/12/23/meeting-anarchists-at-war-a-fairly-long-report-on-our-solidarity-trip-to-ukraine/ \nIn Kyiv\, they also visited a small anti-fascist gym. It offers Muay Thai and kickboxing training for anti-fascists\, anti-authoritarians\, queer people\, and anyone else still living in the city.\nWhat’s particularly cool about this gym is that it is completely self-organized and doesn’t even charge membership fees\, but is financed by voluntary donations. In addition\, they also make their space available for lectures and other events. We experienced the gym as a very important reference point for the anarchist and antifascist scene in Kyiv. \nDue to the war\, people are constantly leaving the city for various reasons\, so there is currently no stable group of people who can donate to pay the rent. Since the space still costs around €400 per month\, the gym is currently in a very difficult situation. To actively contribute to preserving the space\, we want to hold a solidarity event at malobeo to collect donations for the gym. Here’s what’s on offer: \n\nA slideshow of pictures from the trip through Ukraine\nSolidarity cocktails made from kvass\nKüfa\nAn auction\nPostcards with motifs from Ukraine at a solidarity price\nAn exhibition of pictures from the trip (also available for purchase)\n\nThe event will take place on February 17\, 2026\, at malobeo (Kamenzer Str. 36\, 01099 Dresden) starting at 7 p.m. Before that\, starting at 4 p.m.\, there will be a clothing swap at malobeo\, so feel free to come by. \n\n  \n  \nDienstag\, 17.02.2026 | 19:00\nSoli Veranstaltung für Antifa-Gym in Kyiv\nMalobeo | Bilderausstellung | Auktion | Kwasbasierter Solidrink\n@Malobeo\, Kamenzer Str. 38\, Dresden \nIm Rahmen der Woche der Solidarität mit den Menschen in der Ukraine in Dresden \nHallo friends. Wie manche von euch vielleicht schon mit bekommen haben\, waren im Oktober letzten Jahres ein paar Aktivist*innen aus Dresden auf einer Reise durch die Ukraine. Hierbei wurde sich mit Gruppen\, Kollektiven und Einzelpersonen vor Ort vernetzt und ausgetauscht\, um zu erfahren\, wie Aktivismus in Zeiten des Krieges weiter geht. Den ganzen Reisebericht gibt`s hier: https://a-dresden.org/2025/12/23/begegnungen-mit-anarchistinnen-im-krieg-ein-ziemlich-langer-bericht-uber-unsere-solidaritatsreise-in-die-ukraine/ \nIn Kyiv wurde auch ein kleines Antifa-Gym besucht. Dieses bietet Muay-Thai und Kickbox trainings für Antifaschist*innen\, Antiautoräre\, Queere Menschen und alle anderen Personen die noch in der Stadt wohnen. Das besonders coole an diesem Gym: sie sind komplett selbstorganisiert und erheben nicht einmal Mitgliedsbeiträge\, sondern finanzieren sich durch freiwillige Spenden. \nDarüber hinaus stellen sie ihren Raum auch für Vorträge und andere Veranstaltungen zur Verfügung. Wir erlebten das Gym als einen sehr wichtigen Bezugspunkt für die anarchistische und antifaschistische Szene in Kyiv. Da aufgrund des Krieges immer wieder Leute aus unterschiedlichen Gründen die Stadt verlassen\, gibt es gerade keine stabile Gruppe an Leuten\, die für die Miete spenden können. Da der Raum trotzdem ca. 400€ im Monat kostet\, befindet sich das Gym gerade in einer sehr schweren Situation. Um Aktiv zur Erhaltung des Raumes beizutragen wollen wir im malobeo eine Soli-Veranstaltung abhalten um Spenden für das Gym zu sammeln. Hierbei gibts: \n\nEine Diashow von Bildern der Reise durch die Ukraine\nSoli-Cocktails aus Kwas\nKüfa\nEine Auktion\nPostkarten mit Motiven aus der Ukraine zum Solipreis\nEine Ausstellung von Bildern aus der Reise (auch zu kaufen)\n\nDas ganze wird am 17.02.2026 im malobeo (Kamenzer Str. 36\, 01099 Dresden) ab 19 Uhr statt finden. Davor\, ab 16 Uhr\, ist noch ein Kleidertausch im malobeo\, kommt also auch gerne dort hin.
URL:https://malobeo.org/event/17-2-soli-event-fuer-antifa-gym-in-kyiv-kuefa/
CATEGORIES:AntiFa,KüfA,Offenes Treffen
ATTACH;FMTTYPE=image/png:https://malobeo.org/wp-content/uploads/2026/02/UkraineSolidarityGymKyiv2026-e1770464546365.png
END:VEVENT
END:VCALENDAR