BEGIN:VCALENDAR
VERSION:2.0
PRODID:-//malobeo – alternatives café und anarchistische bibliothek - ECPv5.14.0.1//NONSGML v1.0//EN
CALSCALE:GREGORIAN
METHOD:PUBLISH
X-WR-CALNAME:malobeo – alternatives café und anarchistische bibliothek
X-ORIGINAL-URL:https://malobeo.org
X-WR-CALDESC:Veranstaltungen für malobeo – alternatives café und anarchistische bibliothek
BEGIN:VTIMEZONE
TZID:Europe/Berlin
BEGIN:DAYLIGHT
TZOFFSETFROM:+0100
TZOFFSETTO:+0200
TZNAME:CEST
DTSTART:20240331T010000
END:DAYLIGHT
BEGIN:STANDARD
TZOFFSETFROM:+0200
TZOFFSETTO:+0100
TZNAME:CET
DTSTART:20241027T010000
END:STANDARD
END:VTIMEZONE
BEGIN:VEVENT
DTSTART;TZID=Europe/Berlin:20240917T180000
DTEND;TZID=Europe/Berlin:20240917T193000
DTSTAMP:20260420T103936
CREATED:20240815T103727Z
LAST-MODIFIED:20240925T094431Z
UID:3802-1726596000-1726601400@malobeo.org
SUMMARY:17.9.: Anarchist Days: Feministische Knastkritik - Geschichte und Gegenwart [DE]
DESCRIPTION:18:00-19:30: Feministische Knastkritik [DE] @malobeo \n\nDie Einschränkung der Autonomie von FLINTA und Unterdrückung weiblicher Körper erfolgt immer wieder durch staatliche Repression. Das können wir in der Gegenwart bei der Repression gegen Antifaschist*innen wie Maja\, Hanna oder Lina sehen. Aber diese patriarchale Form von Unterdrückung hat auch eine lange Geschichte und tratt immer in verschiedenen Formen und Lebensbereichen auf. \n\nWir werden in dem Vortrag einen Blick auf Geschichte und Gegenwart der Institution Frauenknast werfen und die Auswirkungen auf FLINTA\, Lebensbedingungen im Knast und gesellschaftliche Zusammenhänge von Knast und Strafe.\n\nMehr Infos und das Programm. \nMore information and the programme.
URL:https://malobeo.org/event/17-9-anarchist-days-feministische-knastkritik/
CATEGORIES:anarchist days
ATTACH;FMTTYPE=image/jpeg:https://malobeo.org/wp-content/uploads/2024/08/photo_2024-09-14_12-46-52-e1727257466404.jpg
END:VEVENT
END:VCALENDAR