BEGIN:VCALENDAR
VERSION:2.0
PRODID:-//malobeo – alternatives café und anarchistische bibliothek - ECPv5.14.0.1//NONSGML v1.0//EN
CALSCALE:GREGORIAN
METHOD:PUBLISH
X-WR-CALNAME:malobeo – alternatives café und anarchistische bibliothek
X-ORIGINAL-URL:https://malobeo.org
X-WR-CALDESC:Veranstaltungen für malobeo – alternatives café und anarchistische bibliothek
BEGIN:VTIMEZONE
TZID:Europe/Berlin
BEGIN:DAYLIGHT
TZOFFSETFROM:+0100
TZOFFSETTO:+0200
TZNAME:CEST
DTSTART:20240331T010000
END:DAYLIGHT
BEGIN:STANDARD
TZOFFSETFROM:+0200
TZOFFSETTO:+0100
TZNAME:CET
DTSTART:20241027T010000
END:STANDARD
END:VTIMEZONE
BEGIN:VEVENT
DTSTART;TZID=Europe/Berlin:20240917T193000
DTEND;TZID=Europe/Berlin:20240917T201500
DTSTAMP:20260420T101045
CREATED:20240815T103847Z
LAST-MODIFIED:20240925T094411Z
UID:3806-1726601400-1726604100@malobeo.org
SUMMARY:17.9.: Anarchist Days: KüfA / Essen für Alle / Community Kitchen
DESCRIPTION:19:30-20:15: Essen für alle @malobeo \n  \nMehr Infos und das Programm. \nMore information and the programme.
URL:https://malobeo.org/event/17-9-anarchist-days-kuefa-essen-fuer-alle-community-kitchen/
CATEGORIES:anarchist days,KüfA
ATTACH;FMTTYPE=image/jpeg:https://malobeo.org/wp-content/uploads/2024/08/photo_2024-09-14_12-46-46-1-e1727257446867.jpg
END:VEVENT
END:VCALENDAR