BEGIN:VCALENDAR
VERSION:2.0
PRODID:-//malobeo – alternatives café und anarchistische bibliothek - ECPv5.14.0.1//NONSGML v1.0//EN
CALSCALE:GREGORIAN
METHOD:PUBLISH
X-WR-CALNAME:malobeo – alternatives café und anarchistische bibliothek
X-ORIGINAL-URL:https://malobeo.org
X-WR-CALDESC:Veranstaltungen für malobeo – alternatives café und anarchistische bibliothek
BEGIN:VTIMEZONE
TZID:Europe/Berlin
BEGIN:DAYLIGHT
TZOFFSETFROM:+0100
TZOFFSETTO:+0200
TZNAME:CEST
DTSTART:20230326T010000
END:DAYLIGHT
BEGIN:STANDARD
TZOFFSETFROM:+0200
TZOFFSETTO:+0100
TZNAME:CET
DTSTART:20231029T010000
END:STANDARD
END:VTIMEZONE
BEGIN:VEVENT
DTSTART;TZID=Europe/Berlin:20230418T170000
DTEND;TZID=Europe/Berlin:20230418T190000
DTSTAMP:20260420T103854
CREATED:20230315T110248Z
LAST-MODIFIED:20230408T080727Z
UID:3389-1681837200-1681844400@malobeo.org
SUMMARY:18.04.: Einführung in die Kräuterkosmetik/Introduction to herbal cosmetics
DESCRIPTION:18.04.\, 17:00  @malobeo\, Kamenzer Straße 38\, 01099 Dresden \nEinführung in die Kräuterkosmetik \nUnsere Haut ist das größte Organ für sinnliche Wahrnehmung und verdient Aufmerksamkeit und Pflege. Oftmals verstecken sich in Pflegeprodukte für die Haut schädliche Mineralöle\, Mikroplastik\, Formaldehyd und Parabene. Pflegeprodukte selbst herzustellen\, vermeidet nicht nur diese\, sondern macht auch Spaß und spart Plastik. In diesem Workshop lernst du die Basics\, wie man selbst Kosmetik herstellt. Nach einer kurzen theoretischen Einführung wirst du selbst aktiv und deine eigenen Pflegeprodukte rühren. \nDurchgeführt wird der Workshop von Sophie\, die letztes Jahr ihren Abschluss als Dipl. Kräuterpädagogin gemacht hat. Auf Spendenbasis. \nVoranmeldung unter neudeckersophie@gmail.com\, da es eine begrenzte Platzanzahl gibt.\nFalls ihr kleine Einweckgläser bzw. leere Cremetiegel habt\, bitte mitbringen.\n\nSprachen: Deutsch + Englisch (wenn benötigt)\n\n— \nIntroduction to herbal cosmetics \nOur skin is the largest organ for sensory perception and deserves attention and care. Often\, skin care products hide harmful mineral oils\, microplastics\, formaldehyde and parabens. Making care products yourself not only avoids these\, but is also fun and saves plastic. In this workshop you will learn the basics of how to make your own cosmetics. After a short theoretical introduction you will be active yourself and stir your own care products. \nThe workshop will be conducted by Sophie\, who graduated last year as a certified herbalist. On a donation basis. \nPre-registration at neudeckersophie@gmail.com as there is a limited amount of space.\nIf you have small preserving jars or empty cream jars\, please bring them. \nLanguages: DE + EN (if needed)
URL:https://malobeo.org/event/18-04-einfuehrung-in-die-kraeuterkosmetik/
ATTACH;FMTTYPE=image/jpeg:https://malobeo.org/wp-content/uploads/2023/03/einfuehrung_kraeuterkosmetik_18_04_malobeo.jpg
END:VEVENT
END:VCALENDAR