BEGIN:VCALENDAR
VERSION:2.0
PRODID:-//malobeo – alternatives café und anarchistische bibliothek - ECPv5.14.0.1//NONSGML v1.0//EN
CALSCALE:GREGORIAN
METHOD:PUBLISH
X-WR-CALNAME:malobeo – alternatives café und anarchistische bibliothek
X-ORIGINAL-URL:https://malobeo.org
X-WR-CALDESC:Veranstaltungen für malobeo – alternatives café und anarchistische bibliothek
BEGIN:VTIMEZONE
TZID:Europe/Berlin
BEGIN:DAYLIGHT
TZOFFSETFROM:+0100
TZOFFSETTO:+0200
TZNAME:CEST
DTSTART:20250330T010000
END:DAYLIGHT
BEGIN:STANDARD
TZOFFSETFROM:+0200
TZOFFSETTO:+0100
TZNAME:CET
DTSTART:20251026T010000
END:STANDARD
END:VTIMEZONE
BEGIN:VEVENT
DTSTART;TZID=Europe/Berlin:20251118T180000
DTEND;TZID=Europe/Berlin:20251118T200000
DTSTAMP:20260420T141323
CREATED:20251110T195253Z
LAST-MODIFIED:20251110T195345Z
UID:4145-1763488800-1763496000@malobeo.org
SUMMARY:18.11.: Talk: CALAIS - recent situation
DESCRIPTION:CALAIS – UK/FRANCE \n✊🏽 Tuesday 18th November 6pm\n@malobeo Kamenzer Str. 38\, Dresden \nPresentation of the recent situation in Calais\nWhat solidarity looks like right now\, what repression people are facing\nHow far right political discourse opens doors to racist attacks and how to resist. \nTwo activists from France and UK will share there experience.
URL:https://malobeo.org/event/18-11-talk-calais-recent-situation/
CATEGORIES:Workshop, Vortrag, Diskussion
ATTACH;FMTTYPE=image/jpeg:https://malobeo.org/wp-content/uploads/2025/11/photo_2025-11-10_20-48-41-e1762804418391.jpg
END:VEVENT
END:VCALENDAR