BEGIN:VCALENDAR
VERSION:2.0
PRODID:-//malobeo – alternatives café und anarchistische bibliothek - ECPv5.14.0.1//NONSGML v1.0//EN
CALSCALE:GREGORIAN
METHOD:PUBLISH
X-WR-CALNAME:malobeo – alternatives café und anarchistische bibliothek
X-ORIGINAL-URL:https://malobeo.org
X-WR-CALDESC:Veranstaltungen für malobeo – alternatives café und anarchistische bibliothek
BEGIN:VTIMEZONE
TZID:Europe/Berlin
BEGIN:DAYLIGHT
TZOFFSETFROM:+0100
TZOFFSETTO:+0200
TZNAME:CEST
DTSTART:20180325T010000
END:DAYLIGHT
BEGIN:STANDARD
TZOFFSETFROM:+0200
TZOFFSETTO:+0100
TZNAME:CET
DTSTART:20181028T010000
END:STANDARD
END:VTIMEZONE
BEGIN:VEVENT
DTSTART;TZID=Europe/Berlin:20181219T170000
DTEND;TZID=Europe/Berlin:20181219T190000
DTSTAMP:20260423T101434
CREATED:20181205T124515Z
LAST-MODIFIED:20181205T124515Z
UID:1125-1545238800-1545246000@malobeo.org
SUMMARY:19.12.2018 - AG Öffentlichkeitsarbeit
DESCRIPTION:Die AG “Öffentlichkeitsarbeit” arbeitet an der Außenkommunikation\, bewirbt Veranstaltungen und bearbeitet Zuschriften.\nAktuell arbeiten wir an einigen neuen Features der Website\, überlegen uns neue Formate zur Bewerbung der Veranstaltungen und des Ladens im Allgemeinen.\nWenn du dich für das Designen von Plakaten\, Aufklebern und Flyern begeistern kannst\, Spaß am Schreiben von Texten hast (Gerne auch mehrsprachige Kenntnisse) oder gerne an Websitetools basteln möchtest\, dann besuch uns beim Plenum.
URL:https://malobeo.org/event/19-12-2018-ag-offentlichkeitsarbeit/
LOCATION:malobeo\, Kamenzer Straße 38\, Dresden\, Sucksen\, 01099\, Germany
CATEGORIES:Offenes Treffen
ATTACH;FMTTYPE=image/jpeg:https://malobeo.org/wp-content/uploads/2018/07/vaoea.jpg
END:VEVENT
END:VCALENDAR