BEGIN:VCALENDAR
VERSION:2.0
PRODID:-//malobeo – alternatives café und anarchistische bibliothek - ECPv5.14.0.1//NONSGML v1.0//EN
CALSCALE:GREGORIAN
METHOD:PUBLISH
X-WR-CALNAME:malobeo – alternatives café und anarchistische bibliothek
X-ORIGINAL-URL:https://malobeo.org
X-WR-CALDESC:Veranstaltungen für malobeo – alternatives café und anarchistische bibliothek
BEGIN:VTIMEZONE
TZID:Europe/Berlin
BEGIN:DAYLIGHT
TZOFFSETFROM:+0100
TZOFFSETTO:+0200
TZNAME:CEST
DTSTART:20190331T010000
END:DAYLIGHT
BEGIN:STANDARD
TZOFFSETFROM:+0200
TZOFFSETTO:+0100
TZNAME:CET
DTSTART:20191027T010000
END:STANDARD
END:VTIMEZONE
BEGIN:VEVENT
DTSTART;TZID=Europe/Berlin:20191106T140000
DTEND;TZID=Europe/Berlin:20191106T170000
DTSTAMP:20260420T141311
CREATED:20191030T163741Z
LAST-MODIFIED:20191105T121248Z
UID:1526-1573048800-1573059600@malobeo.org
SUMMARY:6.11. - foodsharing Dresden Plenum
DESCRIPTION:Wir sind eine Initiative\, die sich gegen Lebensmittelverschwendung engagiert. Wir “retten” ungewollte und überproduzierte Lebensmittel in privaten Haushalten sowie von kleinen und großen Betrieben. \nDarüber hinaus verstehen wir uns als bildungspolitische Bewegung und fühlen uns nachhaltigen Umwelt- und Konsumzielen verpflichtet. Wir setzen uns unter anderem für einen Wegwerfstopp und gegen den Verpackungswahnsinn der Supermärkte ein. Mit diesen und anderen Themen sind wir auf Veranstaltungen oder in Medien präsent und starten eigene Aktionen. \nDie Organisation unserer foodsharing-Community und unserer Aktivitäten läuft in erster Linie über die Online-Plattform foodsharing. Hier vernetzen und koordinieren sich die Lebensmittelretter*innen (Foodsharer/Foodsaver) in den einzelnen Städten und Regionen. Über die Plattform werden überregionale Themen\, Veranstaltungen und Informationen veröffentlicht.\nDie Mitglieder der foodsharing-Community arbeiten ehrenamtlich und unentgeltlich. Die Initiative foodsharing ist und bleibt kostenlos\, nicht kommerziell\, unabhängig und werbefrei. Wir wollen die Plattform open source und weltweit leichter zugänglich machen – so wie es das foodsharing-Konzept des Lebensmittelrettens bereits ist. \n  \nfoodsharing Plenum: jeden 1. Mittwoch in den ungeraden Monaten (Nov.\, Jan\, März\, ..) im malobeo
URL:https://malobeo.org/event/2-11-foodsharing-dresden-plenum/
LOCATION:malobeo\, Kamenzer Straße 38\, Dresden\, Sucksen\, 01099\, Germany
CATEGORIES:Offenes Treffen
ATTACH;FMTTYPE=image/jpeg:https://malobeo.org/wp-content/uploads/2019/10/68678979_3096264397082436_7510337894351896576_o.jpg
END:VEVENT
END:VCALENDAR