BEGIN:VCALENDAR
VERSION:2.0
PRODID:-//malobeo – alternatives café und anarchistische bibliothek - ECPv5.14.0.1//NONSGML v1.0//EN
CALSCALE:GREGORIAN
METHOD:PUBLISH
X-WR-CALNAME:malobeo – alternatives café und anarchistische bibliothek
X-ORIGINAL-URL:https://malobeo.org
X-WR-CALDESC:Veranstaltungen für malobeo – alternatives café und anarchistische bibliothek
BEGIN:VTIMEZONE
TZID:Europe/Berlin
BEGIN:DAYLIGHT
TZOFFSETFROM:+0100
TZOFFSETTO:+0200
TZNAME:CEST
DTSTART:20200329T010000
END:DAYLIGHT
BEGIN:STANDARD
TZOFFSETFROM:+0200
TZOFFSETTO:+0100
TZNAME:CET
DTSTART:20201025T010000
END:STANDARD
END:VTIMEZONE
BEGIN:VEVENT
DTSTART;TZID=Europe/Berlin:20200202T140000
DTEND;TZID=Europe/Berlin:20200202T170000
DTSTAMP:20260420T143215
CREATED:20200202T115318Z
LAST-MODIFIED:20200202T115318Z
UID:1659-1580652000-1580662800@malobeo.org
SUMMARY:2.2. - Gesamtplenum des Ladenkolletivs
DESCRIPTION:Wie jeden 1. Sonntag im Monat ist im Laden Gesamtplenum.\n\n\n \n\n\nDas malobeo ist ein selbstorganisierter Raum und arbeitet als Kollektiv in Arbeitsgruppen. Momentan [Stand: Januar2020] gibt es nur ein Wochenplenum in dem neben OrgageldKrams auch Veranstaltungen und E-Mails bearbeitet werden: >>> Donnerstag 18:30 <<<\n\n\nLese mehr dazu auf unserem blog: https://malobeo.org/post/category/selbstorganisation/\n\n\n \n\n\nIm Gesamtplenum laufen Arbeitsstände und knappe Infos aus den Arbeitsgruppen zusammen. Entscheidungen\, die die AGs nicht allein treffen wollen\, werden dort diskutiert und abgestimmt. \n\n\n \n\n\nPlatz ist außerdem für z.B.\n\n\n… Themen\, die das Gesamtkollektiv betreffen\, gern auch mit der hier plenierenden Gruppen\n\n\n… Leute die sich einen Überblick über Mitmachmöglichkeiten des Ladens machen wollen\n\n\n… Schlüssel- oder Spendenübergaben\n\n\n… nettes Geplauder im ‚vor-während-der-Pause-nachhinein‘\n\n\n \n\n\nDas Plenum ist offen für alle interessierten Menschen. Auf Wunsch wird ein Buddie-System angeboten\, sodass sich niemand alleine wo einarbeiten muss.\n\n\n \n\n\n 
URL:https://malobeo.org/event/2-2-gesamtplenum-des-ladenkolletivs/
ATTACH;FMTTYPE=image/jpeg:https://malobeo.org/wp-content/uploads/2018/04/green_anarchism.jpg
END:VEVENT
END:VCALENDAR