BEGIN:VCALENDAR
VERSION:2.0
PRODID:-//malobeo – alternatives café und anarchistische bibliothek - ECPv5.14.0.1//NONSGML v1.0//EN
CALSCALE:GREGORIAN
METHOD:PUBLISH
X-WR-CALNAME:malobeo – alternatives café und anarchistische bibliothek
X-ORIGINAL-URL:https://malobeo.org
X-WR-CALDESC:Veranstaltungen für malobeo – alternatives café und anarchistische bibliothek
BEGIN:VTIMEZONE
TZID:Europe/Berlin
BEGIN:DAYLIGHT
TZOFFSETFROM:+0100
TZOFFSETTO:+0200
TZNAME:CEST
DTSTART:20200329T010000
END:DAYLIGHT
BEGIN:STANDARD
TZOFFSETFROM:+0200
TZOFFSETTO:+0100
TZNAME:CET
DTSTART:20201025T010000
END:STANDARD
END:VTIMEZONE
BEGIN:VEVENT
DTSTART;TZID=Europe/Berlin:20200820T140000
DTEND;TZID=Europe/Berlin:20200820T180000
DTSTAMP:20260423T101531
CREATED:20200808T115057Z
LAST-MODIFIED:20200808T115057Z
UID:1943-1597932000-1597946400@malobeo.org
SUMMARY:20.08. - Bibliothek aufmotzen #2
DESCRIPTION:Im malobeo gibt es Bücher. Nicht wenige!\nDamit Titel besser gefunden und der Bestand an Publikationen eingesehen werden kann\, macht es Sinn diese zu sortieren.\nAlle die Lust haben Schmöker zu wälzen sind auf Kaffe\, Tee und Kuchen am 20 August ab 14 Uhr eingeladen\, sich herrlichen Sortierarbeiten hinzugeben. \nDas malobeo sucht motivierte Bibliograph*innen! Weiterführend könnte man den Bestand z.B. in eine onlinebibliothek einpflegen\, sodass wir von zuhause auschecken können\, was im Laden so vor sich hinstaubt. \nDu hast Lust an Büchertischen\, Zines\, Zeitschriften und Co.? Du hast Lust Ladenschichten zu schieben während du mit Kaffe in der Bibliothek schmökerst? Du möchstest deine Lieblingsautorin zur Lesung einladen? Warum neu kaufen\, wenn wir unsere Bücher auch zusammentragen können? Wissen teilen\, statt horten – Öffnungszeiten organisieren!\nDas malobeo lebt von Partizipation. Das aktuell dünn besetzte Ladenkollektiv freut sich jederzeit über Menschen die mitmachen möchten. Rückt gerne mit eurem gesamten Freundeskreis an und lasst euch Schlüssel\, Besen und Kaffevorrat zeigen! \n\nDas malobeo hat einen Wickeltisch und eine mobile Rollstuhrampe für den Bereich der Bibliothek. Der Garten & das WC ist mit Rollstuhl schwer bis gar nicht zu erreichen. \nBitte bringt eure Atemschutzmaske mit. Es kann nur eine begrenzte Anzahl an Menschen rein. Bleibt mit Infektionsanzeichen bitte zuhause. Informationen zum richtigen niesen kennt ihr ja.
URL:https://malobeo.org/event/20-08-bibliothek-aufmotzen-2/
CATEGORIES:Freiraum,Lesekreis,Uncategorized
ATTACH;FMTTYPE=image/jpeg:https://malobeo.org/wp-content/uploads/2020/08/photo_2020-07-29_16-41-30.jpg
END:VEVENT
END:VCALENDAR