BEGIN:VCALENDAR
VERSION:2.0
PRODID:-//malobeo – alternatives café und anarchistische bibliothek - ECPv5.14.0.1//NONSGML v1.0//EN
CALSCALE:GREGORIAN
METHOD:PUBLISH
X-WR-CALNAME:malobeo – alternatives café und anarchistische bibliothek
X-ORIGINAL-URL:https://malobeo.org
X-WR-CALDESC:Veranstaltungen für malobeo – alternatives café und anarchistische bibliothek
BEGIN:VTIMEZONE
TZID:Europe/Berlin
BEGIN:DAYLIGHT
TZOFFSETFROM:+0100
TZOFFSETTO:+0200
TZNAME:CEST
DTSTART:20220327T010000
END:DAYLIGHT
BEGIN:STANDARD
TZOFFSETFROM:+0200
TZOFFSETTO:+0100
TZNAME:CET
DTSTART:20221030T010000
END:STANDARD
END:VTIMEZONE
BEGIN:VEVENT
DTSTART;TZID=Europe/Berlin:20221220T180000
DTEND;TZID=Europe/Berlin:20221220T203000
DTSTAMP:20260420T100817
CREATED:20221207T103701Z
LAST-MODIFIED:20221207T110920Z
UID:3194-1671559200-1671568200@malobeo.org
SUMMARY:20.12.: Tête-á-tin*: Männlichkeit/Masculinity
DESCRIPTION:ENG \nTête-á-tin*: masculinity   \nA talk about the topic masculinity with/between tin*people \n\nDo you identify as trans*\, inter* or non-binary?\nDo you think about masculinity in general or in relation to yourself?\nWould you like to get in touch with other tin* people to talk about it?\n\nWe do! Therefore\, we would like to invite you to a small tête-á-tin: \nWhere & When \nTuesday\, 20th December\, 6pm to 8:30pm \nmalobeo\, Kamenzer Straße 38\, 01099 Dresden\nà if you want to know more about the malobeo and these amazing people there\, have a look at: www.malobeo.org additionally you will find more information about accessibility. \nWhat \nWe want to offer a space to talk about masculinity in general or what it means to yourself. We deeply thought about the schedule and the appropriate setting. Our topic is masculinity. We will have questions prepared for you but not the answers\, which means that we will create this exchange together. \nIf you already have some ideas or want to get know us\, please contact us in advance or simply join us that day. Maybe you have a personal item to that topic or one you feel comfortable with\, just bring it with you. \nWe will try to have this talk in German and in English. If you are more comfortable in another language\, please contact us in advance and we will try to find a solution. \nThis is the first time of tête-à-tin*. Together we will discuss\, if we want to plan any further meetings to this specific or other topics. \nAbout us \nWe\, this is Zander and Daniele: \nZander (nin/nim\,they/them): Masculinity is a topic that is present all the time\, sometimes more or less harmful. I think it’s interesting and important to break down the concept and impact of masculinity and take a look where it influences us and others or how it channels our feelings. \nMe\, Daniele (without pronoun)\, I am thinking/reflecting a lot about/[on] everything regarding gender\, which also means that I am always confronted with masculinity and have to get into it more closely. I am working with it personally\, as activist and in my job at the Landesfachstelle Jungenarbeit. I am looking for a space where I can sort myself out and get in exchange with others. Therefore\, Zander and I reaching out with this invitation. \nWe are getting support from the Landesfachstelle Jungenarbeit (professional organization about social work with boys) with the realization und implementation of this exchange. If you want to learn more about their work have a look at: www.juma-sachsen.de/landesfachstelle-jungenarbeit/ \nWhat’s needed:  \nPlease be there COVID-tested. For better planning we would appreciate a notice in advance to daniele.spiegler[ät]juma-sachsen.de But you are also welcome without registration. \n — \nDE \ntête-à-tin*: Männlichkeit \nAustausch unter Menschen im tin*Spektrum zum Thema Männlichkeit \n\nDu verstehst dich als Person im trans*\, inter oder nicht binären Spektrum?\nDu machst dir Gedanken über Männlichkeit im Allgemeinen oder in Bezug auf dich selbst?\nDu wünschst dir Austausch mit anderen TIN* Personen dazu?\n\nWir auch. Deshalb wollen euch zu einem kleinen tête-à-tin* einladen: \n  \nWANN & WO \nDienstag\, 20.12.2022\, 18.00 bis ca. 20.30 Uhr \nmalobeo\, Kamenzer Straße 38\, 01099 Dresden -> was das malobeo ist und was die tollen Menschen da so machen\, kannst du hier nachschauen: www.malobeo.org Außerdem findest du da Infos zu Angeboten und räumlichen Barrieren. \n  \nWAS \nWir wollen euch in einen Raum einladen\, in dem wir gemeinsam über Männlichkeit im Allgemeinen und eventuell auch in Bezug auf uns persönlich sprechen können. Dafür haben wir uns eine paar grundlegende Gedanken zum Ablauf gemacht und den Rahmen organisiert. Unsere Einladung soll Anlass sein sich zu Männlichkeit auszutauschen. Dazu bringen wir Fragen aber keine fertigen Antworten mit. Wir wollen euch gern anbieten\, den Austausch gemeinsam zu gestalten. Wenn ihr also Ideen habt oder schon einmal mit uns in Kontakt kommen wollt\, meldet euch gern schon im Vorfeld bei uns. Wenn ihr einfach vorbeikommen wollt\, freuen wir uns natürlich auch sehr. \nBringt gern einen Gegenstand mit der für euch einen Bezug zum Thema hat und einen mit dem ihr euch wohlfühlt. \nWir werden versuchen einen Austausch in deutscher und englischer Lautsprache gemischt zu ermöglichen. Wenn du dich lieber in einer weiteren Sprache ausdrückst\, finden wir sicher auch eine Lösung. \ntête-à-tin* findet zum ersten Mal statt\, gemeinsam schauen wir dann ob wir weitere Treffen zu diesem oder anderen Themen organisieren wollen. \n  \nWIR \nWir\, das sind Zander und Daniele: \nZander (nin/nim\, they/them): Männlichkeit wabert irgendwie die ganze Zeit um uns herum\, manchmal auch mehr als das. Ich finde es interessant und wichtig das ein bisschen aufzuschlüsseln und zu schauen wo es vielleicht besonders sticht und wo auch eigenes Verhalten beeinflusst wird. \nMich\, Daniele (ohne Pronomen)\, bewegen viele Themen rund um Geschlecht\, dabei komme ich auch immer wieder an den Punkt mich mit Männlichkeit auseinandersetzen zu wollen oder zu müssen. Ganz persönlich als aber auch aktivistisch und in meiner Lohnarbeit bei der Landesfachstelle Jungenarbeit. Ich wünsche mir einen Raum\, indem ich mich austauschen und sortieren kann\, deshalb haben Zander und ich uns diese Einladung überlegt. \nDie Landesfachstelle Jungenarbeit unterstützt uns bei der Umsetzung des Austauschs. Wenn du wissen möchtest was wir sonst noch machen\, kannst du gern hier nachschauen: www.juma-sachsen.de/landesfachstelle-jungenarbeit/ \n  \nWIE \nWir bitten euch frisch COVID-getestet zu kommen. Damit wir besser planen können\, meldet euch gern an unter daniele.spiegler[ät]juma-sachsen.de. Ihr seid aber auch ohne Anmeldung herzlich willkommen.
URL:https://malobeo.org/event/20-12-tete-a-tin-maennlichkeit-masculinity/
CATEGORIES:fight4feminism,Workshop, Vortrag, Diskussion
ATTACH;FMTTYPE=image/jpeg:https://malobeo.org/wp-content/uploads/2022/12/masculinity_tin_event_20_12_v2-10.jpg
END:VEVENT
END:VCALENDAR