BEGIN:VCALENDAR
VERSION:2.0
PRODID:-//malobeo – alternatives café und anarchistische bibliothek - ECPv5.14.0.1//NONSGML v1.0//EN
CALSCALE:GREGORIAN
METHOD:PUBLISH
X-WR-CALNAME:malobeo – alternatives café und anarchistische bibliothek
X-ORIGINAL-URL:https://malobeo.org
X-WR-CALDESC:Veranstaltungen für malobeo – alternatives café und anarchistische bibliothek
BEGIN:VTIMEZONE
TZID:Europe/Berlin
BEGIN:DAYLIGHT
TZOFFSETFROM:+0100
TZOFFSETTO:+0200
TZNAME:CEST
DTSTART:20180325T010000
END:DAYLIGHT
BEGIN:STANDARD
TZOFFSETFROM:+0200
TZOFFSETTO:+0100
TZNAME:CET
DTSTART:20181028T010000
END:STANDARD
END:VTIMEZONE
BEGIN:VEVENT
DTSTART;TZID=Europe/Berlin:20180420T200000
DTEND;TZID=Europe/Berlin:20180420T230000
DTSTAMP:20260420T103806
CREATED:20180418T130320Z
LAST-MODIFIED:20180418T130320Z
UID:681-1524254400-1524265200@malobeo.org
SUMMARY:20.4.2018 – KüfA & Kino: Dokus über Themar
DESCRIPTION:Im Juli 2017 fand im südthüringischen Themar eines der größten Rechtsrockfestivals statt. Aus aktuellem Anlass\, dem Nazifestival im ostsächsischen Ostritz\, schauen wir Beiträge und Dokus über Themar. Vorher gibt es veganes Essen für alle. \n  \n20:00 Küche für Alle\n 21:00 Filme
URL:https://malobeo.org/event/20-4-2018-kufa-kino-dokus-uber-themar/
LOCATION:malobeo\, Kamenzer Straße 38\, Dresden\, Sucksen\, 01099\, Germany
CATEGORIES:kino liberecano
ATTACH;FMTTYPE=image/jpeg:https://malobeo.org/wp-content/uploads/2018/04/themar-rechtsrock-thueringen.jpeg
END:VEVENT
END:VCALENDAR