BEGIN:VCALENDAR
VERSION:2.0
PRODID:-//malobeo – alternatives café und anarchistische bibliothek - ECPv5.14.0.1//NONSGML v1.0//EN
CALSCALE:GREGORIAN
METHOD:PUBLISH
X-WR-CALNAME:malobeo – alternatives café und anarchistische bibliothek
X-ORIGINAL-URL:https://malobeo.org
X-WR-CALDESC:Veranstaltungen für malobeo – alternatives café und anarchistische bibliothek
BEGIN:VTIMEZONE
TZID:Europe/Berlin
BEGIN:DAYLIGHT
TZOFFSETFROM:+0100
TZOFFSETTO:+0200
TZNAME:CEST
DTSTART:20230326T010000
END:DAYLIGHT
BEGIN:STANDARD
TZOFFSETFROM:+0200
TZOFFSETTO:+0100
TZNAME:CET
DTSTART:20231029T010000
END:STANDARD
END:VTIMEZONE
BEGIN:VEVENT
DTSTART;TZID=Europe/Berlin:20230221T163000
DTEND;TZID=Europe/Berlin:20230221T210000
DTSTAMP:20260423T102227
CREATED:20230215T122037Z
LAST-MODIFIED:20230215T122139Z
UID:3350-1676997000-1677013200@malobeo.org
SUMMARY:21.02.: Feministische Knastkritik & KüfA
DESCRIPTION:MOBI-Veranstaltung zur Anarchistisch-Feministische Kundgebung an der JVA Chemnitz \nDi.\,Tu.\, 21.02. @ malobeo\, Kamenzer Str. 38\, DD \n🔪🔪 16:30 Uhr – gemeinsames Kochen / cooking together \n🎃🎃 18 Uhr – KüfA / eating \n✨✨ 19 Uhr – Feministische Knastkritik / feminist critique of prison \n[English below] \nSeit 2016 bestehen Kontakte zwischen gefangenensolidarischen Gruppen und inhaftierten Menschen der Frauen-JVA Chemnitz. Und seit 2017 organisieren wir jährlich diese Demo. Seit der Inhaftierung von Lina finden unterm Jahr außerdem weitere\, kleinere Kundgebungen für Lina und die anderen Gefangenen statt\, die wir auch unterstützen. \nWir möchten nun auch dieses Jahr den Feministischen Kampftag zum Anlass nehmen\, um unsere Solidarität mit den inhaftierten Frauen und queeren Menschen in der JVA zu zeigen. Ihr wollt gerne mehr wissen über das Knastsystem? Ihr interessiert euch für Argumente gegen Knast als Bestrafung? In einem Input wollen wir einen feministischen Blick auf das Knastsystem werfen und unsere Kritik an diesem formulieren. \n— \nMOBI-event for the Anarchist-Feminist rally at the prison in Chemnitz \nSince 2016\, there have been contacts between prisoner solidarity groups and imprisoned people of the Chemnitz Women’s Prison. And since 2017 we organize this demo every year. Since Lina’s imprisonment\, there have also been other\, smaller rallies for Lina and the other prisoners during the year\, which we also support. \nWe would like to use the Feminist Day of Struggle as an opportunity to show our solidarity with the imprisoned women and queer people in the prison. You want to know more about the prison system? You are interested in arguments against prison as punishment? In an input we want to take a feminist look at the prison system and formulate our critique of it.
URL:https://malobeo.org/event/21-02-feministische-knastkritik-kuefa/
CATEGORIES:Antirep,KüfA,Workshop, Vortrag, Diskussion
ATTACH;FMTTYPE=image/jpeg:https://malobeo.org/wp-content/uploads/2023/02/and_kuefa_02_23.jpg
END:VEVENT
END:VCALENDAR