BEGIN:VCALENDAR
VERSION:2.0
PRODID:-//malobeo – alternatives café und anarchistische bibliothek - ECPv5.14.0.1//NONSGML v1.0//EN
CALSCALE:GREGORIAN
METHOD:PUBLISH
X-WR-CALNAME:malobeo – alternatives café und anarchistische bibliothek
X-ORIGINAL-URL:https://malobeo.org
X-WR-CALDESC:Veranstaltungen für malobeo – alternatives café und anarchistische bibliothek
BEGIN:VTIMEZONE
TZID:Europe/Berlin
BEGIN:DAYLIGHT
TZOFFSETFROM:+0100
TZOFFSETTO:+0200
TZNAME:CEST
DTSTART:20230326T010000
END:DAYLIGHT
BEGIN:STANDARD
TZOFFSETFROM:+0200
TZOFFSETTO:+0100
TZNAME:CET
DTSTART:20231029T010000
END:STANDARD
END:VTIMEZONE
BEGIN:VEVENT
DTSTART;TZID=Europe/Berlin:20231121T180000
DTEND;TZID=Europe/Berlin:20231121T220000
DTSTAMP:20260420T131319
CREATED:20231116T175927Z
LAST-MODIFIED:20231116T175927Z
UID:3550-1700589600-1700604000@malobeo.org
SUMMARY:21.11. - Aktuelle Methoden staatlicher Überwachung in Deutschland
DESCRIPTION:21.11.2023  @malobeo\n18:30 - 20:00  --  Vortrag & Fragen\n\n\n\nAktuelle Methoden staatlicher Überwachung in Deutschland\nSprache: Deutsch\n\n\n\nStatus Quo und mögliche Umgänge aus aktivistischer Perspektive\n\nStaatliche Behörden suchen tag täglich neue Mittel und Wege\, Personen zu\nbeobachten\, abzuhören und zu tracken. Doch was ist eigentlich der\naktuelle Stand? Welche “verdeckten Technischen Mittel” befinden sich\njust in diesem Moment im Einsatz? Wie observieren Cops\, wie werden\nBewegungsprofile erstellt und wie werden wir abgehört? In diesem Vortrag\nsoll versucht werden\, anhand praktischer Beispiele und Geschehnissen aus\nden vergangenen Jahren antworten auf diese Frage zu finden. Gleichzeitig\nsoll ein kritischer Blick aus aktivistischer Perspektive auf die Geräte\nund Technologien geworfen werden\, die wir heute benutzen\, um zu\nkommunizieren und uns zu organisieren. \n\nVortrag des Anarchistischen Netzwerks Dresden
URL:https://malobeo.org/event/21-11-aktuelle-methoden-staatlicher-ueberwachung-in-deutschland/
LOCATION:malobeo\, Kamenzer Straße 38\, Dresden\, Sucksen\, 01099\, Germany
CATEGORIES:Antirep,Crypto,Workshop, Vortrag, Diskussion
ATTACH;FMTTYPE=image/png:https://malobeo.org/wp-content/uploads/2023/11/title_no_date_rWoFu4K.png
END:VEVENT
END:VCALENDAR