BEGIN:VCALENDAR
VERSION:2.0
PRODID:-//malobeo – alternatives café und anarchistische bibliothek - ECPv5.14.0.1//NONSGML v1.0//EN
CALSCALE:GREGORIAN
METHOD:PUBLISH
X-WR-CALNAME:malobeo – alternatives café und anarchistische bibliothek
X-ORIGINAL-URL:https://malobeo.org
X-WR-CALDESC:Veranstaltungen für malobeo – alternatives café und anarchistische bibliothek
BEGIN:VTIMEZONE
TZID:Europe/Berlin
BEGIN:DAYLIGHT
TZOFFSETFROM:+0100
TZOFFSETTO:+0200
TZNAME:CEST
DTSTART:20230326T010000
END:DAYLIGHT
BEGIN:STANDARD
TZOFFSETFROM:+0200
TZOFFSETTO:+0100
TZNAME:CET
DTSTART:20231029T010000
END:STANDARD
END:VTIMEZONE
BEGIN:VEVENT
DTSTART;TZID=Europe/Berlin:20230423T150000
DTEND;TZID=Europe/Berlin:20230423T180000
DTSTAMP:20260420T143911
CREATED:20230419T084539Z
LAST-MODIFIED:20230419T084546Z
UID:3446-1682262000-1682272800@malobeo.org
SUMMARY:23.04.: Tierbefreiung DD: Lesekreis: Protestcamps – politisches Zelten als antispeziesistische Aktionsform.
DESCRIPTION:Tierbefreiung dresden lädt euch ganz herzlich zu ihrem Lesekreis im April 2023 ein. Sie widmen sich dem Thema: Protestcamps – politisches Zelten als antispeziesistische Aktionsform. \nWann? Sonntag\, 23. April 2023\, 15-18 Uhr\nWo? Malobeo\, Kamenzer Straße 38\, 01099 Dresden oder digital \nIn diesem Lesekreis setzen sich Aktivist*innen der Gruppe tierbefreiung dresden mit dem Thema Protestcamps als Aktionsform zur politischen Meinungsäußerung auseinander. Dabei werfen sie insbesondere einen Blick auf die Geschichte dieser Aktionsform\, beleuchten rechtliche Rahmenbedingungen sowie verschiedene Ausgestaltungsmöglichkeiten des „politischen Campings“. Ausgehend von diesen allgemeinen Betrachtungen wollen sie gemeinsam die Frage untersuchen\, welche Chancen und Möglichkeiten\, aber auch Grenzen und Herausforderungen die Protestform für den Einsatz gegen den Speziesismus bedeutet. \nAlle Infos findet ihr hier.
URL:https://malobeo.org/event/23-04-tierbefreiung-dd-lesekreis-protestcamps-politisches-zelten-als-antispeziesistische-aktionsform/
CATEGORIES:Tierbefreiung Dresden
ATTACH;FMTTYPE=image/jpeg:https://malobeo.org/wp-content/uploads/2023/04/photo_2023-04-19_10-43-54.jpg
END:VEVENT
END:VCALENDAR