BEGIN:VCALENDAR
VERSION:2.0
PRODID:-//malobeo – alternatives café und anarchistische bibliothek - ECPv5.14.0.1//NONSGML v1.0//EN
CALSCALE:GREGORIAN
METHOD:PUBLISH
X-WR-CALNAME:malobeo – alternatives café und anarchistische bibliothek
X-ORIGINAL-URL:https://malobeo.org
X-WR-CALDESC:Veranstaltungen für malobeo – alternatives café und anarchistische bibliothek
BEGIN:VTIMEZONE
TZID:Europe/Berlin
BEGIN:DAYLIGHT
TZOFFSETFROM:+0100
TZOFFSETTO:+0200
TZNAME:CEST
DTSTART:20200329T010000
END:DAYLIGHT
BEGIN:STANDARD
TZOFFSETFROM:+0200
TZOFFSETTO:+0100
TZNAME:CET
DTSTART:20201025T010000
END:STANDARD
END:VTIMEZONE
BEGIN:VEVENT
DTSTART;TZID=Europe/Berlin:20200225T180000
DTEND;TZID=Europe/Berlin:20200225T203000
DTSTAMP:20260420T153212
CREATED:20200225T011839Z
LAST-MODIFIED:20200225T011839Z
UID:1688-1582653600-1582662600@malobeo.org
SUMMARY:25.02. Häuserkampf in Freiburg
DESCRIPTION:Freiburger Hausbesetzungen: zwischen Aktion und Repression\nFreiburg war in den 80ern einer der Hotspots der BRD Hausbesetzungswelle. Die Besetzungen der letzten Jahre wurden bis auf ein bis heute besetztes\, kleines Gebäude mitten in der Stadt\, immer relativ schnell geräumt. Auch dem Kampf um selbstbestimmte Freiräume und Wagenplätze wurde von Seiten der Stadt ein Stein nach dem anderen in den Weg gelegt.\nDer grüne Anschein\, den Freiburg hat\, ist trügerisch: Freiburg ist eine der teuersten Städte in der BRD.\nUm diesem Problem mit direkten Aktionsformen zu begegnen gründeten sich Ende 2018 die Besetzungs-Kampagne „Die WG“ (Wohnraum Gestalten). \nSeitdem wurden in Freiburg immer wieder Häsuer besetzt\, mit anderen Wohnraumgruppen zusammengearbeitet\, diverse Aktionsformen ausprobiert und im Oktober 2019 die bundesweit mobilisierten Squatting-Days veranstaltet. \nUm bei alle dem nicht den Überblick zu verlieren\, sind zur dieswöchigen Di-KüfA  Menschen aus Freiburg zu Besuch\, um von ihrem Wohnraumkämpfen zu erzählen und sich über lokale Machenschaften auszutauschen. \nFür mehr Infos\, checkt hier aus: https://diewg.noblogs.org/\nDer Vortrag wird am 26.02. im AZ☆Conni widerholt. \nAb 18 Uhr helfen\,\nab 19:30 los ! 🙂 \n  \n\nDas malobeo hat einen Wickeltisch und eine mobile Rollstuhlrampe. Ds WC ist nicht barrierearm.
URL:https://malobeo.org/event/25-02-haeuserkampf-in-freiburg/
LOCATION:malobeo\, Kamenzer Straße 38\, Dresden\, Sucksen\, 01099\, Germany
CATEGORIES:Freiraum,Gentrifizierung,Workshop, Vortrag, Diskussion
ATTACH;FMTTYPE=image/jpeg:https://malobeo.org/wp-content/uploads/2020/02/FREIBURG2.jpg
END:VEVENT
END:VCALENDAR