BEGIN:VCALENDAR
VERSION:2.0
PRODID:-//malobeo – alternatives café und anarchistische bibliothek - ECPv5.14.0.1//NONSGML v1.0//EN
CALSCALE:GREGORIAN
METHOD:PUBLISH
X-WR-CALNAME:malobeo – alternatives café und anarchistische bibliothek
X-ORIGINAL-URL:https://malobeo.org
X-WR-CALDESC:Veranstaltungen für malobeo – alternatives café und anarchistische bibliothek
BEGIN:VTIMEZONE
TZID:Europe/Berlin
BEGIN:DAYLIGHT
TZOFFSETFROM:+0100
TZOFFSETTO:+0200
TZNAME:CEST
DTSTART:20230326T010000
END:DAYLIGHT
BEGIN:STANDARD
TZOFFSETFROM:+0200
TZOFFSETTO:+0100
TZNAME:CET
DTSTART:20231029T010000
END:STANDARD
END:VTIMEZONE
BEGIN:VEVENT
DTSTART;TZID=Europe/Berlin:20230226T150000
DTEND;TZID=Europe/Berlin:20230226T180000
DTSTAMP:20260420T104200
CREATED:20230221T125000Z
LAST-MODIFIED:20230221T125051Z
UID:3361-1677423600-1677434400@malobeo.org
SUMMARY:26.02.: Tierbefreiung DD\, Lesekreis: Zusammenleben mit Tieren in der Stadt / Animal-Aided Design
DESCRIPTION:Lesekreis: Zusammenleben mit Tieren in der Stadt / Animal-Aided Design\nLiebe Freund*innen\, Unterstützer*innen und Interessierte\, \nwir laden euch ganz herzlich zu unserem nächsten Lesekreis im Februar 2023 ein. Wir beschäftigen uns dieses mal mit dem Thema: Zusammenleben mit Tieren in der Stadt – eine andere Stadtplanung ist möglich. \nWann? Sonntag\, 26. Februar 2023\, 15-18 Uhr\nWo? malobeo\, Kamenzer Straße 38\, 01099 Dresden oder digital \nIm Zuge dessen stellen wir euch das Projekt Animal-Aided Design vor\, welches die Einbeziehung von wild lebenden Tieren in die Stadtplanung mitdenkt. \n„Die Grundidee von Animal-Aided Design besteht darin\, das Vorkommen von Tieren in den Planungsprozess einzubeziehen\, sodass sie zu einem integralen Bestandteil der Gestaltung werden. Die Bedürfnisse der Tierarten stellen Randbedingungen für den Planungsprozess dar\, dienen aber auch als Inspiration für den Entwurf selbst.“ \nAußerdem möchten wir uns im Lesekreis dem Thema aus Tierbefreiungsperspektive näheren und weitere Fragen und Problematiken diskutieren\, die bei den Überlegungen einer kritischen Stadtplanung entstehen bzw. welche Anknüpfungspunkte es mit bestehenden Projekten geben kann. \nHybridveranstaltung:\nDieser Lesekreis wird wieder im Malobeo stattfinden. Falls ihr online dabei sein wollt\, meldet euch bitte unter tierbefreiung_dd@riseup.net\, dann schicken wir euch den Text als pdf. und die Einwahldaten für den Telko-Raum zu. \nHinweis:\nWir möchten mit dem Thema Corona weiterhin verantwortungsvoll umgehen. Wenn es euch möglich ist\, kommt bitte getestet zum Lesekreis und bringt eine Maske mit. Da nach unserem Lesekreis eine weitere Gruppe die Räumlichkeiten im Malobeo nutzt\, bitten wir euch im Malobeo eine Mund- & Nasenbedeckung zu tragen und auf die anderen Teilnehmenden Rücksicht zu nehmen. Falls ihr Erkältungssymptome habt\, nutzt bitte das digitale Angebot. \n  \nMore than Words \nIn regelmäßigen Lesekreisen wollen wir uns mit Büchern\, Aufsätzen\, Texten und Schriften zum Mensch-Tier-Verhältnis beschäftigen. Wir möchten sowohl Geschichte als auch aktuelle Diskussionen aufgreifen\, gemeinsam mit euch lesen und in entspannter Atmosphäre mit euch durchdenken. Es ist nicht notwendig den Text im Vorfeld zu lesen. Dafür nehmen wir uns während des Lesekreises Zeit. Wer aber vorher schon lesen möchte\, kann dies gern tun. \nAußerdem wird es Kuchen\, Kaffee und Tee geben. Unsere Lesekreise sind einsteiger*innenfreundlich gestaltet und es sind keine besonderen Vorkenntnisse nötig. Der Lesekreis soll auch dazu genutzt werden\, um uns besser kennenzulernen und sich gegenseitig auszutauschen. Wenn du Lust hast mitzumachen oder dir den Lesekreis einfach mal angucken möchtest\, komm gerne vorbei. \n  \nTierbefreiung Dresden: https://tierbefreiung-dresden.org/ \nLesekreis: Zusammenleben mit Tieren in der Stadt / Animal-Aided Design \n \nBeitragsbild: Foto von Nadia Fsnk auf Unsplash
URL:https://malobeo.org/event/26-02-tierbefreiung-dd-lesekreis-zusammenleben-mit-tieren-in-der-stadt-animal-aided-design/
CATEGORIES:Lesekreis,Workshop, Vortrag, Diskussion
ATTACH;FMTTYPE=image/jpeg:https://malobeo.org/wp-content/uploads/2023/02/bb_lesekreis_AnimalAidedDesign.jpg
END:VEVENT
END:VCALENDAR