BEGIN:VCALENDAR
VERSION:2.0
PRODID:-//malobeo – alternatives café und anarchistische bibliothek - ECPv5.14.0.1//NONSGML v1.0//EN
CALSCALE:GREGORIAN
METHOD:PUBLISH
X-WR-CALNAME:malobeo – alternatives café und anarchistische bibliothek
X-ORIGINAL-URL:https://malobeo.org
X-WR-CALDESC:Veranstaltungen für malobeo – alternatives café und anarchistische bibliothek
BEGIN:VTIMEZONE
TZID:Europe/Berlin
BEGIN:DAYLIGHT
TZOFFSETFROM:+0100
TZOFFSETTO:+0200
TZNAME:CEST
DTSTART:20180325T010000
END:DAYLIGHT
BEGIN:STANDARD
TZOFFSETFROM:+0200
TZOFFSETTO:+0100
TZNAME:CET
DTSTART:20181028T010000
END:STANDARD
END:VTIMEZONE
BEGIN:VEVENT
DTSTART;TZID=Europe/Berlin:20180626T180000
DTEND;TZID=Europe/Berlin:20180626T190000
DTSTAMP:20260425T222656
CREATED:20180625T094739Z
LAST-MODIFIED:20180625T094739Z
UID:763-1530036000-1530039600@malobeo.org
SUMMARY:26.6.2018 – Veranstaltungsplenum
DESCRIPTION:Seit mehreren Wochen hat im malobeo kein Veranstaltungsplenum mehr stattgefunden. Das soll sich ändern\, denn das malobeo braucht Veranstaltungen\, um am Leben bleiben zu können. \nKommt gerne vorbei und bringt euch ein\, egal ob ihr schon konkrete Ideen habt\, was für Veranstaltungen es geben könnte oder nicht. \nBis dann.
URL:https://malobeo.org/event/26-6-2018-veranstaltungsplenum/
LOCATION:malobeo\, Kamenzer Straße 38\, Dresden\, Sucksen\, 01099\, Germany
CATEGORIES:Offenes Treffen
ATTACH;FMTTYPE=image/jpeg:https://malobeo.org/wp-content/uploads/2016/01/Veranstaltungen.jpg
END:VEVENT
END:VCALENDAR