BEGIN:VCALENDAR
VERSION:2.0
PRODID:-//malobeo – alternatives café und anarchistische bibliothek - ECPv5.14.0.1//NONSGML v1.0//EN
CALSCALE:GREGORIAN
METHOD:PUBLISH
X-WR-CALNAME:malobeo – alternatives café und anarchistische bibliothek
X-ORIGINAL-URL:https://malobeo.org
X-WR-CALDESC:Veranstaltungen für malobeo – alternatives café und anarchistische bibliothek
BEGIN:VTIMEZONE
TZID:Europe/Berlin
BEGIN:DAYLIGHT
TZOFFSETFROM:+0100
TZOFFSETTO:+0200
TZNAME:CEST
DTSTART:20250330T010000
END:DAYLIGHT
BEGIN:STANDARD
TZOFFSETFROM:+0200
TZOFFSETTO:+0100
TZNAME:CET
DTSTART:20251026T010000
END:STANDARD
END:VTIMEZONE
BEGIN:VEVENT
DTSTART;TZID=Europe/Berlin:20250826T180000
DTEND;TZID=Europe/Berlin:20250826T210000
DTSTAMP:20260420T161115
CREATED:20250818T201056Z
LAST-MODIFIED:20250818T201056Z
UID:4036-1756231200-1756242000@malobeo.org
SUMMARY:26.8.: Film + KüfA  – International Week of Solidarity with Anarchist Prisoners
DESCRIPTION:💌 Di./Tu. 26.08.\n📍@malobeo\n🍎 Food: 18:00\n🎥 Movie: 19:00 \nIm Rahmen der Internationalen Woche der Solidarität mit anarchistischen Gefangenen möchten wir auf das Thema Gefängnis und unsere Gefährt:innen hinter Gittern aufmerksam machen. Dafür laden wir am Dienstag\, den 26.08.\, ein\, gemeinsam zu essen und einen Film zum Thema Gefängnis zu schauen. Anschließend wird es Raum für Diskussion und Austausch geben. \nENGLISCH\nAs part of the International Week of Solidarity with Anarchist Prisoners\, we want to draw attention to the issue of prisons and our comrades behind bars. Therefore\, we invite you to join us on Tuesday\, August 26th\, for a meal and to watch a film on the topic of prisons. Afterwards\, there will be space for discussion and exchange.
URL:https://malobeo.org/event/26-8-film-kuefa-international-week-of-solidarity-with-anarchist-prisoners/
LOCATION:malobeo\, Kamenzer Straße 38\, Dresden\, Sucksen\, 01099\, Germany
ATTACH;FMTTYPE=image/png:https://malobeo.org/wp-content/uploads/2025/08/movieSmaller.png
END:VEVENT
END:VCALENDAR