BEGIN:VCALENDAR
VERSION:2.0
PRODID:-//malobeo – alternatives café und anarchistische bibliothek - ECPv5.14.0.1//NONSGML v1.0//EN
CALSCALE:GREGORIAN
METHOD:PUBLISH
X-WR-CALNAME:malobeo – alternatives café und anarchistische bibliothek
X-ORIGINAL-URL:https://malobeo.org
X-WR-CALDESC:Veranstaltungen für malobeo – alternatives café und anarchistische bibliothek
BEGIN:VTIMEZONE
TZID:Europe/Berlin
BEGIN:DAYLIGHT
TZOFFSETFROM:+0100
TZOFFSETTO:+0200
TZNAME:CEST
DTSTART:20210328T010000
END:DAYLIGHT
BEGIN:STANDARD
TZOFFSETFROM:+0200
TZOFFSETTO:+0100
TZNAME:CET
DTSTART:20211031T010000
END:STANDARD
END:VTIMEZONE
BEGIN:VEVENT
DTSTART;TZID=Europe/Berlin:20210827T180000
DTEND;TZID=Europe/Berlin:20210827T200000
DTSTAMP:20260420T101223
CREATED:20210815T144442Z
LAST-MODIFIED:20210818T192022Z
UID:2403-1630087200-1630094400@malobeo.org
SUMMARY:27.08. - Solidaritea & Internationale Woche der Solidarität mit Anarchistischen Gefangenen
DESCRIPTION:Freitag\, 27. August 2021 18 Uhr im Malobeo\, Kamenzerstr. 38 \nVom 23. – 30. August findet seit nun mehr 9 Jahren die Internationale\nWoche der Solidarität mit anarchistischen Gefangenen statt. Aus diesem\nAnlass wollen wir euch zum Solidaritea ins Malobeo einladen um gemeinsam\nBriefe an Menschen im Knast zu schreiben. \nOb in Belarus\, Griechenland\, Chile\, Kolumbien oder Deutschland\, weltweit\nwerden Menschen eingesperrt\, welche für eine gerechtere Welt kämpfen. \nDer Alltag im Knast ist grau und abwechslungslos. Er verhindert die\nVerbindung zur Außenwelt für unsere Gefährt:innen und versucht\, deren\nVorstellungskraft\, politischen Widerstandsgeist und damit sie selbst zu\nbrechen. Viele Menschen beschreiben immer wieder wie wichtig für sie die\nSolidarität war/ist. Eine einfache Postkarte kann manchmal entscheidend sein für deinen Willen weiter zu leben.\nWir wollen unseren Gefährt:innen weltweit zeigen\, dass sie nicht alleine\nsind! \nBei Tee und Kuchen können wir uns gemeinsam austauschen was zu beachten\nist und Briefe oder Postkarten schreiben. \nAuch dieses Jahr haben wir neue Postkarten gedruckt! Wir werden Zines und Bücher zum Thema Knast mitbringen. \n\nBy Anarchist Black Cross Dresden <3 \n  \n  \n  \nAufruf zur Internationalen Woche der Solidarität mit Anarchistischen Gefangenen\nwebiste: hier \n\nEs existiert eine fundamentale Lüge in der kapitalistischen Gesellschaft. Ein Versprechen\, das niemals wahr wird. Das Versprechen der Freiheit – man muss nur hart genug arbeiten. Jedes Mal\, wenn wir über die Krise des Kapitalismus stolpern\, werden wir daran erinnert. Mehr als ein Jahr  mit Covid-19 liegt hinter uns. Manche sagen\, dass Covid-19 eine Gesundheitskrise ist. Aber das ist es nicht! Covid-19 ist eine weitere Krise\, verursacht durch den Kapitalismus. Ausgelöst durch das Verlangen nach mehr Reichtum und Wachstum. Welches fruchtbare Böden durch industrielle Landwirtschaft verseucht\, Lebensraum der Menschen und Wildtiere durch die Politik der Gewinnung von Rohstoffen stiehlt\, die blühende Wälder in Wüsten verwandelt. Es ist der Wahnsinn des Kapitalismus\, der die Menschheit an den Rand immer neuer Grenzen treibt\, wo weitere Viren auf uns warten. \nDieses Jahr brachte mehr soziale und wirtschaftliche Ungerechtigkeit\, mehr Leid\, aber auch mehr Kampf. Menschen erhoben sich gegen das kapitalistische System und gegen autoritäre Regime. Die Menschen kämpften für ihre Freiheit und gegen Ausbeutung. Menschen streikten in den Fabriken und erhoben sich in den Gefängnissen gegen die autoritäre und profitorientierte Politik. \nEs war ein hartes Jahr und es wird noch mehr kommen. In diesen Zeiten brauchen wir Solidarität mehr denn je – im täglichen Leben\, in unseren Nachbarschaften\, in unseren Communities. Aber wir sollten unsere Gefährt:innen im Gefängnis nicht vergessen\, die für Freiheit und Gleichheit kämpfen. Sie erleben gerade jetzt harte Zeiten. Denn die Pandemie isoliert die Menschen im Gefängnis nur noch mehr. \nDeshalb rufen wir auch in diesem Jahr wieder zur Internationalen Woche der Solidarität mit anarchistischen Gefangenen auf. \nMacht eine Solidaritätsaktion\, einen Bannerdrop\, organisiert eine Briefe-Schreib-Ecke oder eine Filmvorführung\, macht auf die Menschen in den Gefängnissen aufmerksam und lasst sie wissen\, dass sie nicht allein und nicht vergessen sind. \nSchickt uns ein Bild\, einen kurzen Text\, ein Video von Eurer Veranstaltung oder Aktion\, einen Radiobeitrag – Eurer Kreativität sind keine Grenzen gesetzt. \nLasst uns an diejenigen erinnern\, die gegen diese Ungerechtigkeit gekämpft und mit ihrem Leben bezahlt haben. \nLasst uns nicht diejenigen vergessen\, die im Gefängnis sind und ihren Kampf fortsetzen.\nLasst uns weiter kämpfen!\nLasst die Reichen für Covid bezahlen!
URL:https://malobeo.org/event/27-08-solidaritea-internationale-woche-der-solidaritaet-mit-anarchistischen-gefangenen/
LOCATION:malobeo\, Kamenzer Straße 38\, Dresden\, Sucksen\, 01099\, Germany
CATEGORIES:Antirep,Solidaritea
ATTACH;FMTTYPE=image/jpeg:https://malobeo.org/wp-content/uploads/2021/08/kranich2021-1-1536x1100.jpg
END:VEVENT
END:VCALENDAR