BEGIN:VCALENDAR
VERSION:2.0
PRODID:-//malobeo – alternatives café und anarchistische bibliothek - ECPv5.14.0.1//NONSGML v1.0//EN
CALSCALE:GREGORIAN
METHOD:PUBLISH
X-WR-CALNAME:malobeo – alternatives café und anarchistische bibliothek
X-ORIGINAL-URL:https://malobeo.org
X-WR-CALDESC:Veranstaltungen für malobeo – alternatives café und anarchistische bibliothek
BEGIN:VTIMEZONE
TZID:Europe/Berlin
BEGIN:DAYLIGHT
TZOFFSETFROM:+0100
TZOFFSETTO:+0200
TZNAME:CEST
DTSTART:20180325T010000
END:DAYLIGHT
BEGIN:STANDARD
TZOFFSETFROM:+0200
TZOFFSETTO:+0100
TZNAME:CET
DTSTART:20181028T010000
END:STANDARD
END:VTIMEZONE
BEGIN:VEVENT
DTSTART;TZID=Europe/Berlin:20180427T200000
DTEND;TZID=Europe/Berlin:20180427T230000
DTSTAMP:20260423T101429
CREATED:20180426T233035Z
LAST-MODIFIED:20180426T233035Z
UID:696-1524859200-1524870000@malobeo.org
SUMMARY:27.4.2018 – KüfA & Open Evening
DESCRIPTION:Heute wollen wir einfach mal gemeinsam in geselliger Atmosphäre einen entspannten Abend haben. Lasst uns lecker Schmaus kredenzen und bei KüfA und Fahrstuhlmusik über aktuelle Themen oder vielleicht etwas ganz anderes reden. Platz wird für vieles sein\, bringt eure Freund_innen und Ideen mit\, wir machen was draus. \nSpoiler: Es gibt ein ungewöhnliches Kartenspiel (aber nicht „Riot Letter“ aus dem neuen Cirle-A). \nGanz offiziös geht es mit der KüfA los\, der Laden ist aber ab Nachmittags geöffnet\, ihr könnt also gerne schon vorher vorbei kommen. \n  \n20:00 KüfA\n 21:00 Open Evening \n\nIn den letzten Wochen war es etwas schwierig\, Referent_innen für die Freitagsveranstaltungen zu finden. Da wir gerade etwas knapp mit Ideen sind\, freuen wir uns\, wenn ihr Vorschläge habt\, selber etwas schmeißen wollt (natürlich nur Veranstaltungen 😉 )\, oder Wünsche habt. Kommt im Laden vorbei oder schreibt uns 🙂 .
URL:https://malobeo.org/event/27-4-2018-kufa-open-evening/
LOCATION:malobeo\, Kamenzer Straße 38\, Dresden\, Sucksen\, 01099\, Germany
CATEGORIES:Offenes Treffen,Workshop, Vortrag, Diskussion
ATTACH;FMTTYPE=image/jpeg:https://malobeo.org/wp-content/uploads/2018/04/green_anarchism.jpg
END:VEVENT
END:VCALENDAR