BEGIN:VCALENDAR
VERSION:2.0
PRODID:-//malobeo – alternatives café und anarchistische bibliothek - ECPv5.14.0.1//NONSGML v1.0//EN
CALSCALE:GREGORIAN
METHOD:PUBLISH
X-WR-CALNAME:malobeo – alternatives café und anarchistische bibliothek
X-ORIGINAL-URL:https://malobeo.org
X-WR-CALDESC:Veranstaltungen für malobeo – alternatives café und anarchistische bibliothek
BEGIN:VTIMEZONE
TZID:Europe/Berlin
BEGIN:DAYLIGHT
TZOFFSETFROM:+0100
TZOFFSETTO:+0200
TZNAME:CEST
DTSTART:20210328T010000
END:DAYLIGHT
BEGIN:STANDARD
TZOFFSETFROM:+0200
TZOFFSETTO:+0100
TZNAME:CET
DTSTART:20211031T010000
END:STANDARD
END:VTIMEZONE
BEGIN:VEVENT
DTSTART;TZID=Europe/Berlin:20210528T083000
DTEND;TZID=Europe/Berlin:20210528T170000
DTSTAMP:20260420T153627
CREATED:20210525T174329Z
LAST-MODIFIED:20210525T174329Z
UID:2329-1622190600-1622221200@malobeo.org
SUMMARY:28.05. - Kundgebung vor dem Amtsgericht DD
DESCRIPTION:Das malobeo teilt den Aufruf der Gruppe Wir besetzen Dresden. Original hier.\n\nEigentum abschaffen\, Besetzungen sind kein Verbrechen – Kundgebung Amtsgericht\, 28.05\, ab 8:30 Uhr\nAm Freitag\, dem 28.05.2021\, soll vor dem Amtsgericht Dresden der erste von drei Prozessen gegen vier von insgesamt 12 Menschen geführt werden\, denen Hausfriedensbruch und Sachbeschädigung in Höhe von ca. 21.000€ im Kontext der Basteiplatzbesetzung vom 24.08.2019 vorgeworfen wird. \nDie Verhandlungen sollen um 9 Uhr beginnen und werden voraussichtlich bis 16/17 Uhr dauern. Für die gesamte Zeit ist eine Kundgebung angemeldet. Weitere Infos über den Verlauf des Tages erhaltet ihr über Twitter @wirbesetzendd und unter dem hashtag #dd2805 #ddbesetzen.\n\nDie Besetzung der leerstehenden Villa am Basteiplatz 3 sollte auf die ungerechte Verteilung von Eigentum und die ungerechten Wohnverhältnisse in (nicht nur) Dresden aufmerksam machen. Gleichzeitig war es der Versuch\, sich etwas von diesem Eigentum in einer direkten Aktion anzueignen. Dieser Versuch ist leider gescheitert. Dafür bietet der Prozess eine erneute Gelegenheit\, auf die weiterhin ungerechten Verhältnisse aufmerksam zu machen. Und um deutlich zu machen: nicht die Besetzung ist das Problem\, sondern diese Art von Besitz.\n\nDie Villa am Basteiplatz 3 ist aktuell Eigentum der Castello Immobilien & Vermögen AG. Die Castello AG tut das\, was Unternehmen im Kapitalismus so tun. Sie kauft Immobilien auf\, wertet sie auf und macht privatwirtschaftliche Profite\, indem sie diese teuer weiter verkauft oder vermietet. Oder sie leer stehen lässt wie im Fall der Villa am Basteiplatz 3. Ein Vertreter der Castello AG hat am Tag der Besetzung behauptet\, das Gebäude solle für Betreutes Wohnen eingerichtet werden – es sieht allerdings weiterhin nicht so aus\, als würde das tatsächlich passieren. Die AG lehnt es ab\, als Eigentümer des Gebäude zurückzutreten.\n\nDie Castello AG hat die Villa am Basteiplatz 3 im Frühjahr 2018 von der Projektgesellschaft BP3 GmbH\, ein weiteres kapitalistisches Unternehmen gleicher Ausrichtung\, erworben. In der Geschichte der Villa finden sich Hinweise durch Berichte früherer Bewohner*innen dafür\, dass die Villa durch nationalsozialitische Enteignung jüdischer Menschen gewaltsam in den Besitz der deutschen Exportbierbrauerei Radeberger\, beziehungsweise später des Fabrikdirektors Franz Schwabach gelangt ist. Nachforschungen dazu wurden von Einzelpersonen der Partei Die Linke angestellt und nicht von den früheren oder aktuellen Besitzer*innen der Villa. Die Brauerei beteuert\, keine Akten dazu zu haben. Auch der Castello AG scheint dieser Hintergrund ihres Eigentums – weniger verwunderlich – egal zu sein. An dieser Stelle fordern wir eine Auseinandersetzung mit der Geschichte des Basteiplatztes 3 – und Möglichkeiten für Reparationen zu finden. \n\nKommt ab 8:30 Uhr zur  Kundgebung vor dem Amtsgericht in Dresden (Roßbachstraße 6)\, um für Besetzungen als politische Praxis einzutreten. Und um immer wieder zu fordern\, dass sich an den kapitalistischen Eigentumsverhältnissen\, die auch durch den Nationalsozialismus hervorgebracht wurden\, und ihrem bedingungslosen Schutz ganz grundlegend etwas ändern muss. Wenn ihr eigene Inhalte einbringen wollt\, nutzt gerne die Gelegenheit dafür (z.B. Transpis\, Redebeiträge\, einfach so das Mikro schnappen) \nEigentum abschaffen\, Besetzungen sind kein Verbrechen! \nÜbrigens\, \nAktionen finden nicht im luftleeren Raum\, sondern im Kontext von sozialen Beziehungen statt. Hinter Ideen stehen Menschen\, die ihren Umgang miteinander aushandeln. Konsens\, also das Einverständnis aller Beteiligten\, ist ein gutes Prinzip hierfür. Mit unter den 12 Angeklagten befinden sich Menschen\, die wiederholt Grenzen anderer zum Teil vehement übergangen haben. Deswegen sollen selbstorganisierter Umgang mit sexualisierter Gewalt\, Konsens und Sexualität auf den ausgerichteten Kundgebungen eine Rolle spielen\, u.a. in Form eines Infostands. Damit wollen wir versuchen Auseinandersetzungprozesse – die auch unsere eigenen sind – zu unterstützen. Alle sind eingeladen hinzuschauen und für sich\, Freund*innenkreis oder Politgruppe Handlungsoptionen für Prävention und Support zu erweitern.\n\nEs gibt lecka Kaffee und vielleicht Muffins\, vielleicht küfa – bringt Becher mit.
URL:https://malobeo.org/event/28-05-kundgebung-vor-dem-amtsgericht-dd/
LOCATION:Roßbachstraße 6\, Roßbachstraße 6\, Dresden
CATEGORIES:Antirep,Externe Veranstalter,Freiraum,Gentrifizierung
ATTACH;FMTTYPE=image/jpeg:https://malobeo.org/wp-content/uploads/2020/05/2bklein-768x512.jpg
END:VEVENT
END:VCALENDAR