BEGIN:VCALENDAR
VERSION:2.0
PRODID:-//malobeo – alternatives café und anarchistische bibliothek - ECPv5.14.0.1//NONSGML v1.0//EN
CALSCALE:GREGORIAN
METHOD:PUBLISH
X-WR-CALNAME:malobeo – alternatives café und anarchistische bibliothek
X-ORIGINAL-URL:https://malobeo.org
X-WR-CALDESC:Veranstaltungen für malobeo – alternatives café und anarchistische bibliothek
BEGIN:VTIMEZONE
TZID:Europe/Berlin
BEGIN:DAYLIGHT
TZOFFSETFROM:+0100
TZOFFSETTO:+0200
TZNAME:CEST
DTSTART:20210328T010000
END:DAYLIGHT
BEGIN:STANDARD
TZOFFSETFROM:+0200
TZOFFSETTO:+0100
TZNAME:CET
DTSTART:20211031T010000
END:STANDARD
END:VTIMEZONE
BEGIN:VEVENT
DTSTART;TZID=Europe/Berlin:20210928T160000
DTEND;TZID=Europe/Berlin:20210928T190000
DTSTAMP:20260420T131249
CREATED:20210923T120032Z
LAST-MODIFIED:20210923T120032Z
UID:2469-1632844800-1632855600@malobeo.org
SUMMARY:28.09. -  Zinestand am Safe Abortion Day | @Goldener Reiter
DESCRIPTION:Auf zum … Safe Abortion Day!\n\n\nWas: Infostände 16:00 – 19:00 Uhr Kundgebung 17:00 -19:00 Uhr \nWo: Goldener Reiter\, Neustädter Markt\nVeranstalterinnen: pro familia Sachsen und Pro Choice Sachsen\nInfostände von: Kritische Mediziner:innen Dresden\, Malobeo\, Medea e.V.\, Sowieso e.V.\, e*vibes\n\n\nWir sind mit unserem mega coolen Zinestand am Start – den ihr übrigens auch für eure Garten-Hof-sonstige-Feste anfragen könnt: just ask for it.\n\nDer 28. September ist als Safe Abortion Day der internationale Aktionstag für einen sicheren\, entkriminalisierten\, kostenfreien Zugang zum Schwangerschaftsabbruch. In diesem Jahr steht dieser Tag bundesweit unter dem Motto „150 Jahre Widerstand gegen § 218“. 2021 begeht dieser deutsche Strafrechtsparagraph tatsächlich sein 150-jähriges Jubiläum. Am 15. Mai 1871 wurden die Bestimmungen zum Schwangerschaftsabbruch im ersten Reichsstrafgesetzbuch verabschiedet. Dort steht er heute noch neben Mord und Totschlag! Wir finden: 150 Jahre sind 150 Jahre zuviel – es muss endlich Schluss sein mit der Kriminalisierung! Es ist höchste Zeit\, etwas an der prekären Situation für ungewollt Schwangere zu ändern: Der Schwangerschaftsabbruch muss neu geregelt werden!\n\nKommt daher am 28.09.2021 mit uns auf die Straße und schließt Euch unserer Kundgebung an! Informiert euch durch Redebeiträge\, an Infoständen und im Gespräch über Fakten\, Rechte\, Hürden und Gründe für einen sicheren Zugang zum Schwangerschaftsabbruch.\n\nVerhelft unseren Forderungen zu mehr Öffentlichkeit:\n\nWir fordern das Recht auf kostenlose\, wohnortnahe und sichere Schwangerschaftsabbrüche ohne Beratungszwang. Wir fordern\, dass Schwangerschaftsabbrüche als Grundversorgung anerkannt und Kassenleistung werden.\nWir fordern\, dass die Behandlung in die medizinische Ausbildung integriert wird.\nWir fordern eine vollständige Legalisierung durch Streichung des § 218 aus dem Strafgesetzbuch.\n\n\n\n_________________ [EN] ______________________ \nLet’s go to the … Safe Abortion Day! \nWhat: Information booths 16:00 – 19:00 Rally 17:00 -19:00 \nWhere: Goldener Reiter\, Neustädter Markt \nOrganizers: pro familia Saxony and Pro Choice Saxony \nInfostands by: Kritische Mediziner:innen Dresden\, Malobeo\, Medea e.V.\, Sowieso e.V.\, e*vibes \n  \nSeptember 28 is Safe Abortion Day\, the international day of action for safe\, decriminalized\, free access to abortion. This year\, the nationwide theme for this day is „150 Years of Resistance to Section 218.“ In 2021\, this German criminal law paragraph actually celebrates its 150th anniversary. On May 15\, 1871\, the provisions on abortion were adopted in the first Imperial Penal Code. There it still stands today next to murder and manslaughter! We think: 150 years are 150 years too much – there must finally be an end to criminalization! It is high time to change something at the precarious situation for unintentionally pregnant women: Abortion must be regulated anew! \nTherefore\, come with us on 28.09.2021 on the street and join our rally! Inform yourself through speeches\, at information booths and in conversation about facts\, rights\, hurdles and reasons for a safe access to abortion. Help our demands get more publicity: We demand the right to free\, safe abortions close to home without compulsory counseling. We demand that abortions be recognized as primary care and be covered by health insurance. We demand that treatment be integrated into medical training.We demand complete legalization by deleting § 218 from the penal code. \n  \n\n\n 
URL:https://malobeo.org/event/28-09-zinestand-am-safe-abortion-day-goldener-reiter/
LOCATION:Goldener Reiter
CATEGORIES:Antirep,fight4feminism,Zinestand
ATTACH;FMTTYPE=image/jpeg:https://malobeo.org/wp-content/uploads/2021/09/241545735_1276896359415790_7027323455909757739_n.jpg
END:VEVENT
END:VCALENDAR