BEGIN:VCALENDAR
VERSION:2.0
PRODID:-//malobeo – alternatives café und anarchistische bibliothek - ECPv5.14.0.1//NONSGML v1.0//EN
CALSCALE:GREGORIAN
METHOD:PUBLISH
X-WR-CALNAME:malobeo – alternatives café und anarchistische bibliothek
X-ORIGINAL-URL:https://malobeo.org
X-WR-CALDESC:Veranstaltungen für malobeo – alternatives café und anarchistische bibliothek
BEGIN:VTIMEZONE
TZID:Europe/Berlin
BEGIN:DAYLIGHT
TZOFFSETFROM:+0100
TZOFFSETTO:+0200
TZNAME:CEST
DTSTART:20240331T010000
END:DAYLIGHT
BEGIN:STANDARD
TZOFFSETFROM:+0200
TZOFFSETTO:+0100
TZNAME:CET
DTSTART:20241027T010000
END:STANDARD
END:VTIMEZONE
BEGIN:VEVENT
DTSTART;TZID=Europe/Berlin:20240128T150000
DTEND;TZID=Europe/Berlin:20240128T180000
DTSTAMP:20260420T104201
CREATED:20240123T083425Z
LAST-MODIFIED:20240123T083425Z
UID:3594-1706454000-1706464800@malobeo.org
SUMMARY:28.1. Tierbefreiung DD\, Lesekreis: Artgerecht ist nur die Freiheit.
DESCRIPTION:Liebe Mitstreiter*innen\, Freund*innen und Interessierte\, \nWir laden euch ganz herzlich zu unserem Lesekreis im Januar ein und lesen aus dem Buch Artgerecht ist nur die Freiheit. Eine Ethik für Tiere oder Warum wir umdenken müssen von Hilal Sezgin\, erschienen 2014 im Verlag C.H. Beck. \nWann: Sonntag | 28. Januar 2024 | 15 – 18 Uhr\nWo: Malobeo | alternatives Café & anarchistische Bibliothek | Kamenzer Str. 38 \nWorum geht es? Tierquälerei ist schwer erträglich. Trotzdem lassen wir es stillschweigend zu\, dass unzählige Tiere in Versuchslaboren gequält und in Mastställen und Schlachthöfen angeblich „artgerecht“ misshandelt werden\, weil wir uns ein Leben ohne „tierische Produkte“ nicht vorstellen können. Hilal Sezgins Augen öffnendes Buch geht der Frage nach\, ob wir Tiere im medizinischen Interesse malträtieren und ob wir sie einsperren\, töten und essen dürfen. In einer lebhaften Auseinandersetzung mit anderen (tier-)ethischen Positionen plädiert sie dafür\, Tiere als Individuen mit eigenen Rechten anzuerkennen – auch in unserem eigenen Interesse. Am Ende dieser engagierten Tierethik steht die Vision einer Menschheit\, die sich die Erde gerecht mit anderen Tieren teilen kann. Eine fulminant geschriebene Einladung zum Umdenken\, der man sich nur schwer entziehen kann. \nAlle Infos findet ihr auch hier: https://tierbefreiung-dresden.org/lesekreis-artgerecht-ist-nur-die-freiheit/ \n \nHybridveranstaltung:\nDieser Lesekreis wird wieder im Malobeo stattfinden. Falls ihr online dabei sein wollt\, meldet euch bitte unter tierbefreiung_dd@riseup.net\, dann schicken wir euch den Text als pdf. und die Einwahldaten für den Telko-Raum zu. \nHinweis:\nWir möchten auf die Bedürfnisse des Malobeo-Kollektives Rücksicht nehmen und mit dem Thema Corona weiterhin verantwortungsvoll umgehen. Wenn es euch möglich ist\, kommt bitte getestet zum Lesekreis. Falls ihr Erkältungssymptome habt\, nutzt bitte das digitale Angebot. \nMore than Words:\nIn regelmäßigen Lesekreisen wollen wir uns mit Büchern\, Aufsätzen\, Texten und Schriften zum Mensch-Tier-Verhältnis beschäftigen. Wir möchten sowohl Geschichte als auch aktuelle Diskussionen aufgreifen\, gemeinsam mit euch lesen und in entspannter Atmosphäre mit euch durchdenken. Es ist nicht notwendig den Text im Vorfeld zu lesen. Dafür nehmen wir uns während des Lesekreises Zeit. Wer aber vorher schon lesen möchte\, kann dies gern tun. Außerdem wird es Kuchen\, Kaffee und Tee geben. Unsere Lesekreise sind einsteiger*innenfreundlich gestaltet und es sind keine besonderen Vorkenntnisse nötig. Der Lesekreis soll auch dazu genutzt werden\, um uns besser kennenzulernen und sich gegenseitig auszutauschen. Wenn du Lust hast mitzumachen oder dir den Lesekreis einfach mal angucken möchtest\, komm gerne vorbei. \n\nWir freuen uns auf euch!\nEure tierbefreiung dresden \n—\nhttp://tierbefreiung-dresden.org/
URL:https://malobeo.org/event/28-1-tierbefreiung-dd-lesekreis-artgerecht-ist-nur-die-freiheit/
CATEGORIES:Tierbefreiung Dresden
ATTACH;FMTTYPE=image/jpeg:https://malobeo.org/wp-content/uploads/2024/01/bb_lesekreis_sezgin.jpg
END:VEVENT
END:VCALENDAR