BEGIN:VCALENDAR
VERSION:2.0
PRODID:-//malobeo – alternatives café und anarchistische bibliothek - ECPv5.14.0.1//NONSGML v1.0//EN
CALSCALE:GREGORIAN
METHOD:PUBLISH
X-WR-CALNAME:malobeo – alternatives café und anarchistische bibliothek
X-ORIGINAL-URL:https://malobeo.org
X-WR-CALDESC:Veranstaltungen für malobeo – alternatives café und anarchistische bibliothek
BEGIN:VTIMEZONE
TZID:Europe/Berlin
BEGIN:DAYLIGHT
TZOFFSETFROM:+0100
TZOFFSETTO:+0200
TZNAME:CEST
DTSTART:20180325T010000
END:DAYLIGHT
BEGIN:STANDARD
TZOFFSETFROM:+0200
TZOFFSETTO:+0100
TZNAME:CET
DTSTART:20181028T010000
END:STANDARD
END:VTIMEZONE
BEGIN:VEVENT
DTSTART;TZID=Europe/Berlin:20180728T120000
DTEND;TZID=Europe/Berlin:20180728T160000
DTSTAMP:20260420T141405
CREATED:20180726T194743Z
LAST-MODIFIED:20180726T194743Z
UID:837-1532779200-1532793600@malobeo.org
SUMMARY:28.7.2018 – Open Meeting: AND
DESCRIPTION:Offenes Treffen des Anarchistischen Netzwerks Dresden (AND). \nDiesmal: Weitere Vorbereitung der libertären Tage.
URL:https://malobeo.org/event/28-7-2018-open-meeting-and/
LOCATION:malobeo\, Kamenzer Straße 38\, Dresden\, Sucksen\, 01099\, Germany
CATEGORIES:Offenes Treffen
ATTACH;FMTTYPE=image/jpeg:https://malobeo.org/wp-content/uploads/2018/06/anarcho-syndicalism-photoshop2-1024x500.jpg
END:VEVENT
END:VCALENDAR