BEGIN:VCALENDAR
VERSION:2.0
PRODID:-//malobeo – alternatives café und anarchistische bibliothek - ECPv5.14.0.1//NONSGML v1.0//EN
CALSCALE:GREGORIAN
METHOD:PUBLISH
X-WR-CALNAME:malobeo – alternatives café und anarchistische bibliothek
X-ORIGINAL-URL:https://malobeo.org
X-WR-CALDESC:Veranstaltungen für malobeo – alternatives café und anarchistische bibliothek
BEGIN:VTIMEZONE
TZID:Europe/Berlin
BEGIN:DAYLIGHT
TZOFFSETFROM:+0100
TZOFFSETTO:+0200
TZNAME:CEST
DTSTART:20190331T010000
END:DAYLIGHT
BEGIN:STANDARD
TZOFFSETFROM:+0200
TZOFFSETTO:+0100
TZNAME:CET
DTSTART:20191027T010000
END:STANDARD
END:VTIMEZONE
BEGIN:VEVENT
DTSTART;TZID=Europe/Berlin:20191029T190000
DTEND;TZID=Europe/Berlin:20191029T220000
DTSTAMP:20260420T101740
CREATED:20191018T162331Z
LAST-MODIFIED:20191018T162331Z
UID:1530-1572375600-1572386400@malobeo.org
SUMMARY:29.10. - Arbeitsplätze selbst schaffen - Instandbesetzte Betriebe
DESCRIPTION:KüfA + Vortrag von und mit Daniel Kulla\n„Arbeitsplätze selbst schaffen- Instandbesetzte Betriebe in Argentinien\, anderswo und hier“ \nDer Vortrag nimmt die wirtschaftliche Situation in Argentinien Ende 90er Jahre und Anfang der Nullerjahre zum Ausgangspunkt. Eine starke Rezession führte damals zum Zusammenbruch des argentinischen Finanzsystems und auch großen Teilen der Wirtschaft. Als Reaktion darauf nahmen die Arbeiter*innen die Dinge selbst in die Hand und die Betriebe wurden selbstverwaltet weitergeführt – teilweise bis heute. Dabei sind sie allerdings staatlichen Repressionen ausgesetzt. Neben der Situation in Argentinien kommen im Vortrag aber auch Beispiele für betriebliche Selbstverwaltung in anderen Ländern vor. Nach dem Vortrag wird es eine freie Diskussion des Publikums mit Daniel Kulla geben. Ziel des Abends ist es\, mehr über alternatives Wirtschaften zu sprechen und zu lernen\, welche Erfahrungen bereits damit gemacht wurden. Eingeladen zu dem Vortragsabend sind alle Menschen\, die Interesse haben\, mehr über Alternativen neben den kapitalistischen Wirtschaftsformen zu erfahren. \nblog: https://www.classless.org/ \nDer Vortrag wird von der Rosa-Luxemburg-Stiftung Sachsen gefördert.
URL:https://malobeo.org/event/29-10-arbeitsplaetze-selbst-schaffen-instandbesetzte-betriebe/
LOCATION:malobeo\, Kamenzer Straße 38\, Dresden\, Sucksen\, 01099\, Germany
CATEGORIES:Workshop, Vortrag, Diskussion
ATTACH;FMTTYPE=image/jpeg:https://malobeo.org/wp-content/uploads/2019/10/72678150_2744342552256004_1642548549444960256_n.jpg
END:VEVENT
END:VCALENDAR