BEGIN:VCALENDAR
VERSION:2.0
PRODID:-//malobeo – alternatives café und anarchistische bibliothek - ECPv5.14.0.1//NONSGML v1.0//EN
CALSCALE:GREGORIAN
METHOD:PUBLISH
X-WR-CALNAME:malobeo – alternatives café und anarchistische bibliothek
X-ORIGINAL-URL:https://malobeo.org
X-WR-CALDESC:Veranstaltungen für malobeo – alternatives café und anarchistische bibliothek
BEGIN:VTIMEZONE
TZID:Europe/Berlin
BEGIN:DAYLIGHT
TZOFFSETFROM:+0100
TZOFFSETTO:+0200
TZNAME:CEST
DTSTART:20200329T010000
END:DAYLIGHT
BEGIN:STANDARD
TZOFFSETFROM:+0200
TZOFFSETTO:+0100
TZNAME:CET
DTSTART:20201025T010000
END:STANDARD
END:VTIMEZONE
BEGIN:VEVENT
DTSTART;TZID=Europe/Berlin:20201029T154500
DTEND;TZID=Europe/Berlin:20201029T170000
DTSTAMP:20260423T101551
CREATED:20201020T172518Z
LAST-MODIFIED:20201020T174108Z
UID:2069-1603986300-1603990800@malobeo.org
SUMMARY:29.10. - Stream: Fragen digitaler Gewalt - Francesca Schmidt
DESCRIPTION:Die Veranststaltung wird im malobeo live gestreamt.\n\nDie Veranstaltung ist Teil der offenen Ringlesung >>Grund genug<< im Wintersemester 2020/21 an der HSZG und wird in Kooperation mit der Volkshochschule Görlitz umgesetzt. In über dreizehn Veranstaltungen gehen wir mit Expert*innen den Selbstverständlichkeiten\, Nebenwirkungen\, Risiken & Widersprüchen unserer Gesellschaft auf den Grund.\n\nDie Veranstaltung ist eine von Vielen. Die Ringlesungen finden jeden Donnerstag um 16.15Uhr statt.\nInformiert euch hier über das vollständige Programm.\nfacebook: https://www.facebook.com/events/1009318489482296/\n\n__________________________________________\nHeute\nDigitale Gewalt: feministische Perspektiven und Lösungen. Hass\, Hetze\, Hate Speech – wer kennt diese Begriffe nicht. Die Feuilletons sind voll von Artikeln zu Angriffen auf Menschen- und Freiheitsrechte im digitalen Raum. Besonders betroffen: Frauen und Menschen mit marginalisierten Positionen. Aus einer intersektionalen feministischen Perspektive wird sich der Vortrag mit den Fragen beschäftigen\, warum potenziell zwar jede*r von digitaler Gewalt betroffen sein kann\, aber nicht alle gleich getroffen werden. Welche Lösungsansätze der Bekämpfung gibt es? Sollten wir uns auf das Strafrecht verlassen oder lieber Gegenrede trainieren? Oder sollten wir diesen Teil der Öffentlichkeit verloren geben?\nZur Person: Francesca Schmidt hat sich auf Netzpolitik\, Presse- und Öffentlichkeitsarbeit sowie Online-Redaktionen spezialisiert. Sie ist Referentin im Gunda-Werner-Institut für Feminismus und Geschlechterdemokratie und verantwortet den Bereich feministische Netzpolitik\, mit dem aktuellen Schwerpunkt digitale Gewalt.\n\nHinweis: Die Veranstaltenden behalten sich vor\, von ihrem Hausrecht Gebrauch zu machen und Personen\, die rechtsextremen Parteien oder Organisationen angehören\, der rechtsextremen Szene zuzuordnen sind oder bereits in der Vergangenheit durch rassistische\, nationalistische\, antisemitische oder sonstige menschenverachtende Äußerungen in Erscheinung getreten sind\, den Zutritt zur (Online-)Veranstaltung zu verwehren oder von dieser auszuschließen.\n\n___________________________________________\nAnliegen der Ringlesung >>Grund Genug<<\nGleiches Recht für alle. Der allgemeine Gleichheitssatz regelt nicht nur die faire Behandlung vor dem Gesetz\, sondern sollte auch als Grundlage unseres täglichen Miteinanders dienen. Doch können wir stets vermeiden\, Gleiches ungleich zu behandeln? Und sollte Ungleiches nicht gleich behandelt werden? In dieser Ringvorlesung versuchen wir uns dieser Thematik entlang verschiedener Dimensionen zu nähern und dabei aufzuzeigen\, an welchen Stellen Gleichberechtigung\, Gleichbehandlung\, aber auch Diskriminierung Aspekte unseres Alltags sind. Grund und Anlass\, um mal über’s Grundgesetz zu schnacken.\nDie Veranstaltung wird durch die Hochschule Zittau/Görlitz\, dem STURA und der Volkshochschule Görlitz finanziert und ehrenamtlich vom feministischen*forum organisiert.\n\n___________________________________________\nHygiene & weiteres Programm\n  \nProgramm\n\nHygiene Konzept
URL:https://malobeo.org/event/29-10-stream-fragen-digitaler-gewalt-francesca-schmidt/
CATEGORIES:Offenes Treffen,Workshop, Vortrag, Diskussion
ATTACH;FMTTYPE=image/jpeg:https://malobeo.org/wp-content/uploads/2020/10/119030168_1200455760347807_6004601154634363458_o-1.jpg
END:VEVENT
END:VCALENDAR