BEGIN:VCALENDAR
VERSION:2.0
PRODID:-//malobeo – alternatives café und anarchistische bibliothek - ECPv5.14.0.1//NONSGML v1.0//EN
CALSCALE:GREGORIAN
METHOD:PUBLISH
X-WR-CALNAME:malobeo – alternatives café und anarchistische bibliothek
X-ORIGINAL-URL:https://malobeo.org
X-WR-CALDESC:Veranstaltungen für malobeo – alternatives café und anarchistische bibliothek
BEGIN:VTIMEZONE
TZID:Europe/Berlin
BEGIN:DAYLIGHT
TZOFFSETFROM:+0100
TZOFFSETTO:+0200
TZNAME:CEST
DTSTART:20180325T010000
END:DAYLIGHT
BEGIN:STANDARD
TZOFFSETFROM:+0200
TZOFFSETTO:+0100
TZNAME:CET
DTSTART:20181028T010000
END:STANDARD
END:VTIMEZONE
BEGIN:VEVENT
DTSTART;TZID=Europe/Berlin:20180703T190000
DTEND;TZID=Europe/Berlin:20180703T230000
DTSTAMP:20260420T103631
CREATED:20180703T084909Z
LAST-MODIFIED:20181203T134201Z
UID:774-1530644400-1530658800@malobeo.org
SUMMARY:3.7.2018 – KüfA & Film
DESCRIPTION:An in-depth look at the prison system in the United States and how it reveals the nation’s history of racial inequality. \n  \nLanguage: English with German subtitles\nDuration: 1 hour 40 minutes \n19:00 Küche für Alle\n20:00 Film
URL:https://malobeo.org/event/3-7-2018-kufa-film/
LOCATION:malobeo\, Kamenzer Straße 38\, Dresden\, Sucksen\, 01099\, Germany
CATEGORIES:kino liberecano
ATTACH;FMTTYPE=image/jpeg:https://malobeo.org/wp-content/uploads/2018/07/13.jpg
END:VEVENT
END:VCALENDAR