BEGIN:VCALENDAR
VERSION:2.0
PRODID:-//malobeo – alternatives café und anarchistische bibliothek - ECPv5.14.0.1//NONSGML v1.0//EN
CALSCALE:GREGORIAN
METHOD:PUBLISH
X-WR-CALNAME:malobeo – alternatives café und anarchistische bibliothek
X-ORIGINAL-URL:https://malobeo.org
X-WR-CALDESC:Veranstaltungen für malobeo – alternatives café und anarchistische bibliothek
BEGIN:VTIMEZONE
TZID:Europe/Berlin
BEGIN:DAYLIGHT
TZOFFSETFROM:+0100
TZOFFSETTO:+0200
TZNAME:CEST
DTSTART:20200329T010000
END:DAYLIGHT
BEGIN:STANDARD
TZOFFSETFROM:+0200
TZOFFSETTO:+0100
TZNAME:CET
DTSTART:20201025T010000
END:STANDARD
END:VTIMEZONE
BEGIN:VEVENT
DTSTART;TZID=Europe/Berlin:20201030T200000
DTEND;TZID=Europe/Berlin:20201030T210000
DTSTAMP:20260423T151334
CREATED:20201030T131749Z
LAST-MODIFIED:20201030T131749Z
UID:2102-1604088000-1604091600@malobeo.org
SUMMARY:30.10. - STRAJK GENERALNY- Solidarnie z Polkami/ Solidarität mit Frauen in Polen!
DESCRIPTION:Anmerkung: Das malobeo veröffentlicht den Kundgebungsaufruf einer Privatperson. Wir sind nicht für die Orga des Streiks verantwortlich.\nLink zur Veranstaltung: https://www.facebook.com/events/s/strajk-generalny-solidarnie-z-/1765214833653919/?ti=ia\n30.10. | 20 UHR | @Alaunplatz\n[DE] unten\n[ENG] below\n\nNie pozostajemy obojętni wobec sytuacji w Polsce\, chcemy okazać naszym rodaczkom wsparcie\, i pokazać\, że nie są same po szokującym wyroku pseudo/Trybunału Konstytucyjnego.\nJESTEŚMY Z WAMI!\nOBOWIĄZUJE ZACHOWANIE DYSTANSU SPOŁECZNEGO I ZAŁOŻONA MASECZKA OCHRONNA\n\n[DE]\nAm kommenden Freitag\, den 30.10.2020\, findet in Polen der Generalstreik im Kampf um die Rechte der Polinnen statt. Wir möchten zeigen\, dass wir an unsere Landmänninnen denken und solidarisch mit ihnen der Entscheidung des Verfassungsgerichtes nicht zustimmen. Wir möchten auch die Dresdner auf das Problem aufmerksam machen. Wir hoffen\, mithilfe der Veranstalltung\, die Information über die Situation in Polen international verbreiten zu können. Änliche friedliche Solidaritätsbekundungen finden schon in mehreren deutschen Städten statt.\nBITTE DIE SOZIALDISTANZ BEHALTEN SOWIE DIE MUND-NASE-MASKE TRAGEN\n\n[ENG]\nOn Friday\, October 30th\, 2020 the general strike will take a place in Poland in the fight for the rights of Polish women. We want to show that we think of our compatriots and in solidarity with them do not agree with the decision of the constitutional court. We would also like to make the people of Dresden aware of the problem. We hope that our happening can bring a lot to international information about the situation in Poland. Similar peaceful solidarity manifestations are already taking place in several German locations.\nPLEASE KEEP THE SOCIAL DISTANCE BETWEEN YOU AND KEEP THE FACE MASK ON \n\n\n 
URL:https://malobeo.org/event/30-10-strajk-generalny-solidarnie-z-polkami-solidaritaet-mit-frauen-in-polen/
LOCATION:Alaunplatz\, Alaunplatz\, Dresden\, 01099
CATEGORIES:AntiFa,Antirep,FantiFa,Uncategorized
ATTACH;FMTTYPE=image/jpeg:https://malobeo.org/wp-content/uploads/2020/10/123020534_3510865122303160_6457280377386841437_n.jpg
END:VEVENT
END:VCALENDAR