BEGIN:VCALENDAR
VERSION:2.0
PRODID:-//malobeo – alternatives café und anarchistische bibliothek - ECPv5.14.0.1//NONSGML v1.0//EN
CALSCALE:GREGORIAN
METHOD:PUBLISH
X-WR-CALNAME:malobeo – alternatives café und anarchistische bibliothek
X-ORIGINAL-URL:https://malobeo.org
X-WR-CALDESC:Veranstaltungen für malobeo – alternatives café und anarchistische bibliothek
BEGIN:VTIMEZONE
TZID:Europe/Berlin
BEGIN:DAYLIGHT
TZOFFSETFROM:+0100
TZOFFSETTO:+0200
TZNAME:CEST
DTSTART:20180325T010000
END:DAYLIGHT
BEGIN:STANDARD
TZOFFSETFROM:+0200
TZOFFSETTO:+0100
TZNAME:CET
DTSTART:20181028T010000
END:STANDARD
END:VTIMEZONE
BEGIN:VEVENT
DTSTART;TZID=Europe/Berlin:20180805T140000
DTEND;TZID=Europe/Berlin:20180805T170000
DTSTAMP:20260423T101413
CREATED:20180721T105532Z
LAST-MODIFIED:20180803T160035Z
UID:832-1533477600-1533488400@malobeo.org
SUMMARY:5.8.2018 – Gesamtplenum
DESCRIPTION:Im Gesamtplenum laufen Arbeitsstände und Informationen aus den AGs zusammen. Entscheidungen\, die die AGs nicht allein treffen wollen\, werden dort diskutiert und abgestimmt. Das Plenum ist offen für alle interessierten Menschen.
URL:https://malobeo.org/event/5-8-2018-gesamtplenum/
LOCATION:malobeo\, Kamenzer Straße 38\, Dresden\, Sucksen\, 01099\, Germany
CATEGORIES:Offenes Treffen
ATTACH;FMTTYPE=image/jpeg:https://malobeo.org/wp-content/uploads/2016/01/Gesamtplenum.jpg
END:VEVENT
END:VCALENDAR